BEGIN:VCALENDAR
VERSION:2.0
METHOD:PUBLISH
PRODID:-//hacksw/handcal//NONSGML v1.0//EN
BEGIN:VEVENT
DTSTAMP:20260420T031740Z
DTSTART:20260516T140000Z
DTEND:20260516T160000Z
UID:20260516T140000Z-20260516T160000Z-2593@ndclubofaustin.com
SUMMARY:NDCOA May Volunteer Event - Austin Parks Foundation
DESCRIPTION:Come join the ND Club of Austin on Satuday\, May 16th from
  9am - 11am for a morning of service with the Austin Parks Foundation.
 \nMake sure you are dressed for outdoor activities and be prepared to 
 get dirty. We will be helping along the various trails at the Blunn Cr
 eek Greenbelt and activities may include gardening\, tree mulching\, o
 r invasive species removal.\n\nWe have up to 25 slots available\, but 
 you will also need to register with APF at the link below.\n\nSo Pleas
 e RSVP to this event (so we know how many of our slots will be filled 
 up) HERE - https://app.betterunite.com/notredameclubofaustin-apf\n\nAN
 D then register with the APF at  https://givepul.se/xj83ie\n\nRemeber 
 to dress for outdoor activities\, wear sunscreen and bring water to he
 lp keep you hydrated as we work along the greenbelt.\n\n--------------
 -\n\nAbout Austin Parks Foundation: https://austinparks.org/\n\nAustin
  Parks Foundation partners with our community to enhance people’s live
 s by making our public parks\, trails and green spaces better through 
 volunteerism\, innovative programming\, advocacy and financial support
 .
X-ALT-DESC;FMTTYPE=text/html:<p style=text-align: center\;><strong>Com
 e join the ND Club of Austin on Satuday\, May 16th from 9am &#8211\; 1
 1am for a morning of service with the Austin Parks Foundation.</strong
 ></p>\n<p>Make sure you are dressed for outdoor activities and be prep
 ared to get dirty. We will be helping along the various trails at the 
 Blunn Creek Greenbelt and activities may include gardening\, tree mulc
 hing\, or invasive species removal.</p>\n<p>We have up to 25 slots ava
 ilable\, but you will also need to register with APF at the link below
 .</p>\n<p><em><strong>So Please RSVP to this event (so we know how man
 y of our slots will be filled up) HERE &#8211\; <a href=https://app.be
 tterunite.com/notredameclubofaustin-apf>https://app.betterunite.com/no
 tredameclubofaustin-apf</a></strong></em></p>\n<p><em><strong>AND then
  register with the APF at </strong> <a href=https://urldefense.com/v3/
 __https:/givepul.se/xj83ie__\;!!MmVq4RZS0-lUvL4!dC8QroEqP2Z4glnv0fDoEK
 K9YAUMusGF2gMMYBHXOqjeI5QdH_3W3rqnr4VBGEU4WUZKCqiH0HRQ1YSL20WgBxGOk89X
 tw$ target=_blank rel=noopener data-saferedirecturl=https://www.google
 .com/url?q=https://urldefense.com/v3/__https:/givepul.se/xj83ie__\;!!M
 mVq4RZS0-lUvL4!dC8QroEqP2Z4glnv0fDoEKK9YAUMusGF2gMMYBHXOqjeI5QdH_3W3rq
 nr4VBGEU4WUZKCqiH0HRQ1YSL20WgBxGOk89Xtw$&amp\;source=gmail&amp\;ust=17
 76708366912000&amp\;usg=AOvVaw07TKj0-4aE45Zu5Wkq272x data-cke-saved-hr
 ef=https://urldefense.com/v3/__https:/givepul.se/xj83ie__\;!!MmVq4RZS0
 -lUvL4!dC8QroEqP2Z4glnv0fDoEKK9YAUMusGF2gMMYBHXOqjeI5QdH_3W3rqnr4VBGEU
 4WUZKCqiH0HRQ1YSL20WgBxGOk89Xtw$>https://givepul.se/xj83ie</a></em><br
 >\n<br>\nRemeber to dress for outdoor activities\, wear sunscreen and 
 bring water to help keep you hydrated as we work along the greenbelt.<
 /p>\n<p>&#8212\;&#8212\;&#8212\;&#8212\;&#8212\;</p>\n<p><strong>About
  Austin Parks Foundation: <a href=https://austinparks.org/>https://aus
 tinparks.org/</a></strong><br>\n<br>\nAustin Parks Foundation partners
  with our community to enhance people’s lives by making our public par
 ks\, trails and green spaces better through volunteerism\, innovative 
 programming\, advocacy and financial support.</p>\n
URL:https://ndclubofaustin.com/events/ndcoa-may-volunteer-event-austin
 -parks-foundation/?lang=en
ATTACH:https://ndclubofaustin.com/events/ndcoa-may-volunteer-event-aus
 tin-parks-foundation/?lang=en
ATTACH:https://ndclubofaustin.com/wp-content/uploads/2026/04/NDCOA-APF
 -Volunteer-300x300.png
LOCATION:Blunn Creek Greenbelt\, 1901 East Side Dr.\, Austin
END:VEVENT
END:VCALENDAR
