BEGIN:VCALENDAR
VERSION:2.0
METHOD:PUBLISH
PRODID:-//hacksw/handcal//NONSGML v1.0//EN
BEGIN:VEVENT
DTSTAMP:20260419T123456Z
DTSTART:20260303T004500Z
DTEND:20260303T023000Z
UID:20260303T004500Z-20260303T023000Z-2587@ndclubofaustin.com
SUMMARY:Monthly Leadership Meeting - March 2026
DESCRIPTION:Come get involved with the Notre Dame Club of Austin.\n\nO
 ur March 2026 leadership meeting will be via zoom and in person and is
  scheduled for Monday\, March 2\, 2026\, from 6:45pm - 8:30pm\n\nIf yo
 u can join in person\, we will see you at the Twin Oaks Branch\, Austi
 n Public Library\, 1800 S 5th St. Austin\, TX 78704\n\nOtherwise\, Zoo
 m call in info to join:\n\nNotre Dame Club of Austin is inviting you t
 o a scheduled Zoom meeting.\n\nNotre Dame Club of Austin is inviting y
 ou to a scheduled Zoom meeting.\n\nTopic: Notre Dame Club of Austin's 
 Zoom Meeting - Leadership Meeting - March 2026\n\nTime: Mar 2\, 2026 1
 8:45 Central Time (US and Canada)\n\nJoin Zoom Meeting\n\nhttps://us06
 web.zoom.us/j/82024441615?pwd=Ci1vWnD6y3mkMBWJeqkcPdvxfL4hkX.1\n\nMeet
 ing ID: 820 2444 1615\n\nPasscode: 934195\n\n---\n\nOne tap mobile\n\n
 +13462487799\,\,82024441615#\,\,\,\,*934195# US (Houston)\n\n+12532050
 468\,\,82024441615#\,\,\,\,*934195# US\n\nJoin instructions\n\nhttps:/
 /us06web.zoom.us/meetings/82024441615/invitations?signature=6qqW6aSkVR
 GGB_TgPpm-UfD3QQauC9c9ZLa-5kBL6x0
X-ALT-DESC;FMTTYPE=text/html:<p><strong>Come get involved with the Not
 re Dame Club of Austin.</strong><br>\n<br>\nOur March 2026 leadership 
 meeting will be via zoom and in person and is scheduled for Monday\, M
 arch 2\, 2026\, from 6:45pm &#8211\; 8:30pm</p>\n<p>If you can join in
  person\, we will see you at the Twin Oaks Branch\, Austin Public Libr
 ary\, 1800 S 5th St. Austin\, TX 78704</p>\n<p>Otherwise\, Zoom call i
 n info to join:</p>\n<p>Notre Dame Club of Austin is inviting you to a
  scheduled Zoom meeting.</p>\n<p>Notre Dame Club of Austin is inviting
  you to a scheduled Zoom meeting.</p>\n<p>Topic: Notre Dame Club of Au
 stin&#8217\;s Zoom Meeting &#8211\; Leadership Meeting &#8211\; March 
 2026</p>\n<p>Time: Mar 2\, 2026 18:45 Central Time (US and Canada)</p>
 \n<p>Join Zoom Meeting</p>\n<p>https://us06web.zoom.us/j/82024441615?p
 wd=Ci1vWnD6y3mkMBWJeqkcPdvxfL4hkX.1</p>\n<p>Meeting ID: 820 2444 1615<
 /p>\n<p>Passcode: 934195</p>\n<p>&#8212\;</p>\n<p>One tap mobile</p>\n
 <p>+13462487799\,\,82024441615#\,\,\,\,*934195# US (Houston)</p>\n<p>+
 12532050468\,\,82024441615#\,\,\,\,*934195# US</p>\n<p>Join instructio
 ns</p>\n<p>https://us06web.zoom.us/meetings/82024441615/invitations?si
 gnature=6qqW6aSkVRGGB_TgPpm-UfD3QQauC9c9ZLa-5kBL6x0</p>\n
URL:https://ndclubofaustin.com/events/monthly-leadership-meeting-march
 -2026/?lang=en
ATTACH:https://ndclubofaustin.com/events/monthly-leadership-meeting-ma
 rch-2026/?lang=en
ATTACH:https://ndclubofaustin.com/wp-content/uploads/2023/09/38325237-
 FEC3-4062-8AC5-47DE18732524-300x300.png
LOCATION:Twin Oaks Branch of the Austin Public Library\, 1800 S. 5th S
 t.\, Austin\, TX 78704
END:VEVENT
END:VCALENDAR
