BEGIN:VCALENDAR
VERSION:2.0
METHOD:PUBLISH
PRODID:-//hacksw/handcal//NONSGML v1.0//EN
BEGIN:VEVENT
DTSTAMP:20260423T195404Z
DTSTART:20260107T000000Z
DTEND:20260107T023000Z
UID:20260107T000000Z-20260107T023000Z-2585@ndclubofaustin.com
SUMMARY:Central Texas Foodbank - Volunteer Event Jan 2026
DESCRIPTION:Let's start off 2026 right!\n\nCome join your fellow ND Cl
 ub of Austin members in an evening of service on January 6th\, 2026\n\
 nWe will be helping sort and process donations at the Central Texas Fo
 od Bank\, so each participant will also be a Hunger Hero\, helping to 
 feed community members who are food insecure in Central Texas.\n\nPlea
 se RSVP HERE: https://app.betterunite.com/ndcoactfbvolunteerjan26\n\nA
 nd then....\n\nHow to Sign Up: Each member of our group is required to
  create an account with the Central Texas Food Bank and sign up within
  our group reservation before arriving for your volunteer shift. You c
 an do this easily through our group’s unique link here:  https://cafb.
 volunteerhub.com/vv2/lp/notredameclubofaustin\n\nPlease register using
  the above link as soon as possible!  The Food Bank needs time to rele
 ase any of our unclaimed spots to the public if we don’t fill them and
  they will do this a full week before our event.  Let's get all 10 of 
 our spots claimed ASAP!
X-ALT-DESC;FMTTYPE=text/html:<div class=campaigncontentheadline>\n<div
  class=col-md-12 pt-medium pb-none pr-small pl-none h4 fancy bold font
 18></div>\n</div>\n<form id=frmGifts action=https://app.betterunite.co
 m/ndcoactfbvolunteerjan26/CampaignDonate method=POST name=frmGifts>\n<
 div class=col-sm-12 pl-none pr-none pb-xlarge-2>\n<div id=causes class
 =row>\n<div class=col-sm-12 pl-none><br>\nLet&#8217\;s start off 2026 
 right!</p>\n<p>Come join your fellow ND Club of Austin members in an e
 vening of service on January 6th\, 2026</p>\n<p>We will be helping sor
 t and process donations at the Central Texas Food Bank\, so each parti
 cipant will also be a Hunger Hero\, helping to feed community members 
 who are food insecure in Central Texas.</p>\n<p>Please RSVP HERE: <a h
 ref=https://app.betterunite.com/ndcoactfbvolunteerjan26>https://app.be
 tterunite.com/ndcoactfbvolunteerjan26</a></p>\n<p>And then&#8230\;.</p
 >\n<p><strong>How to Sign Up: </strong>Each member of our group is req
 uired to create an account with the Central Texas Food Bank and sign u
 p within our group reservation before arriving for your volunteer shif
 t. You can do this easily through our group’s unique link here:  <a hr
 ef=https://cafb.volunteerhub.com/vv2/lp/notredameclubofaustin target=_
 blank rel=noopener>https://cafb.volunteerhub.com/vv2/lp/notredameclubo
 faustin</a></p>\n<p><strong><u>Please register using the above link as
  soon as possible!</u>  </strong>The Food Bank needs time to release a
 ny of our unclaimed spots to the public if we don’t fill them and they
  will do this a full week before our event.  Let&#8217\;s get all 10 o
 f our spots claimed ASAP!</p>\n</div>\n</div>\n</div>\n</form>\n
URL:https://ndclubofaustin.com/events/central-texas-foodbank-volunteer
 -event-jan-2026/?lang=en
ATTACH:https://ndclubofaustin.com/events/central-texas-foodbank-volunt
 eer-event-jan-2026/?lang=en
ATTACH:https://ndclubofaustin.com/wp-content/uploads/2025/11/NDCOA-CTF
 B-Volunteer-Jan26-300x300.png
LOCATION:Central Texas Food Bank\, 6500 Metropolis Dr.\, Austin
END:VEVENT
END:VCALENDAR
