BEGIN:VCALENDAR
VERSION:2.0
METHOD:PUBLISH
PRODID:-//hacksw/handcal//NONSGML v1.0//EN
BEGIN:VEVENT
DTSTAMP:20260423T213103Z
DTSTART;VALUE=DATE:20250426
DTEND;VALUE=DATE:20250427
UID:20250426T050000Z-20250427T045959Z-2511@ndclubofaustin.com
SUMMARY:ND Global Day of Service
DESCRIPTION:The Notre Dame Club of Ausin is participating in Notre Dam
 e's Global Day of Service again this year.\n\nOn Saturday\, April  26t
 h\, serve with us to bring the love of God to those who are poor and s
 uffering.\n\n\n\n\n\n\n\n\nThe Notre Dame Club of Austin is partnering
  again with the Society of St. Vincent de Paul - Diocesan Council of A
 ustin to serve those in need at their Food Pantry and Thrift Store. Th
 e Society of St. Vincent de Paul is a network of friends\, growing in 
 holiness and building a more just world through personal relationships
  with and service to people in need.\n\nWe are offering multiple shift
 s to allow ND/SMC/Holy Cross volunteers to find the time and activitie
 s which may be the best fit for them.\n\nVolunteers* should wear comfo
 rtable clothes that are OK to get dirty and ALL must wear sturdy CLOSE
 -TOED shoes. (*Youth ages 11-17 are welcome to volunteer with a parent
  or adult guardian.)\n\nTo see shift options and to RSVP for a volunte
 er shift slot\, please do so here:  https://app.betterunite.com/notred
 ameclubofaustin-ndglobaldayofservice2025-austintx
X-ALT-DESC;FMTTYPE=text/html:<div class=campaigncontentheadline>\n<div
  class=col-md-12 pt-medium pb-none pr-small pl-none h4 fancy bold font
 18><br>\nThe Notre Dame Club of Ausin is participating in <a href=http
 s://globaldayofservice.nd.edu>Notre Dame&#8217\;s Global Day of Servic
 e</a> again this year.</p>\n<p>On Saturday\, April  26th\, serve with 
 us to bring the love of God to those who are poor and suffering.</p>\n
 </div>\n</div>\n<form id=frmGifts action=https://app.betterunite.com/n
 otredameclubofaustin-ndglobaldayofservice2025-austintx/CampaignDonate 
 method=POST name=frmGifts>\n<div class=col-sm-12 pl-none pr-none pb-xl
 arge-2>\n<div id=causes class=row>\n<div class=col-sm-12 pl-none><br>\
 nThe Notre Dame Club of Austin is partnering again with the Society of
  St. Vincent de Paul &#8211\; Diocesan Council of Austin to serve thos
 e in need at their Food Pantry and Thrift Store. The Society of St. Vi
 ncent de Paul is a network of friends\, growing in holiness and buildi
 ng a more just world through personal relationships with and service t
 o people in need.</p>\n<p>We are offering multiple shifts to allow ND/
 SMC/Holy Cross volunteers to find the time and activities which may be
  the best fit for them.</p>\n<p><strong>Volunteers* should wear comfor
 table clothes that are OK to get dirty and ALL must wear sturdy CLOSE-
 TOED shoes. </strong><em>(*Youth ages 11-17 are welcome to volunteer w
 ith a parent or adult guardian.)</em><br>\n<br>\nTo see shift options 
 and to RSVP for a volunteer shift slot\, please do so here: <a href=ht
 tps://app.betterunite.com/notredameclubofaustin-ndglobaldayofservice20
 25-austintx> https://app.betterunite.com/notredameclubofaustin-ndgloba
 ldayofservice2025-austintx</a></p>\n</div>\n</div>\n</div>\n</form>\n
URL:https://ndclubofaustin.com/events/nd-global-day-of-service-2/?lang
 =en
ATTACH:https://ndclubofaustin.com/events/nd-global-day-of-service-2/?l
 ang=en
ATTACH:https://ndclubofaustin.com/wp-content/uploads/2025/03/ND-Global
 -Day-of-Service-300x88.png
LOCATION:Society of St. Vincent de Paul - VFC\, 901 W. Braker Ln\, Aus
 tin
END:VEVENT
END:VCALENDAR
