BEGIN:VCALENDAR
VERSION:2.0
METHOD:PUBLISH
PRODID:-//hacksw/handcal//NONSGML v1.0//EN
BEGIN:VEVENT
DTSTAMP:20260423T213103Z
DTSTART:20241208T190000Z
DTEND:20241208T210000Z
UID:20241208T190000Z-20241208T210000Z-2453@ndclubofaustin.com
SUMMARY:2024 Brown Santa Volunteer Event
DESCRIPTION:SAVE THE DATE\n\nWe've got 20 spots for volunteers for hel
 ping at the Travis County Sheriff's Brown Santa Event.  Time will be f
 rom 1-3pm.\n\nPlease use this site to RSVP and claim your ticket(s) to
  join us when the Notre Dame Club of Austin (NDCOA) gathers to support
  the Travis County BROWN SANTA program. This longstanding annual event
  is a favorite of many in the NDCOA family. We'll gather to wrap prese
 nts and enjoy the holiday spirit with other volunteers at the Brown Sa
 nta Warehouse. (See the Brown Santa website for helpful parking and en
 trance information.)\n\nPLEASE BRING an unwrapped gift to donate to th
 e program when you come to wrap with NDCOA!
X-ALT-DESC;FMTTYPE=text/html:<p>SAVE THE DATE</p>\n<p>We&#8217\;ve got
  20 spots for volunteers for helping at the Travis County Sheriff&#821
 7\;s Brown Santa Event.  Time will be from 1-3pm.</p>\n<p>Please use t
 his site to <a href=https://www.betterunite.com/notredameclubofaustin-
 ndcoa--2024brownsantavolunteerevent>RSVP and claim your ticket(s)</a> 
 to join us when the Notre Dame Club of Austin (NDCOA) gathers to suppo
 rt the Travis County BROWN SANTA program. This longstanding annual eve
 nt is a favorite of many in the NDCOA family. We&#8217\;ll gather to w
 rap presents and enjoy the holiday spirit with other volunteers at the
  Brown Santa Warehouse. (See the Brown Santa website for helpful parki
 ng and entrance information.)</p>\n<p><strong>PLEASE BRING an unwrappe
 d gift to donate to the program when you come to wrap with NDCOA!</str
 ong></p>\n
URL:https://ndclubofaustin.com/events/2024-brown-santa-volunteer-event
 /?lang=en
ATTACH:https://ndclubofaustin.com/events/2024-brown-santa-volunteer-ev
 ent/?lang=en
ATTACH:https://ndclubofaustin.com/wp-content/uploads/2021/11/travis-co
 unty-sheriffs-website-300x300.png
LOCATION:Brown Santa Warehouse\, 6406 Old Burleson Road\, Austin
END:VEVENT
END:VCALENDAR
