BEGIN:VCALENDAR
VERSION:2.0
METHOD:PUBLISH
PRODID:-//hacksw/handcal//NONSGML v1.0//EN
BEGIN:VEVENT
DTSTAMP:20260423T230022Z
DTSTART:20240608T140000Z
DTEND:20240608T170000Z
UID:20240608T140000Z-20240608T170000Z-2438@ndclubofaustin.com
SUMMARY:NDCOA Young Alumni - June Social
DESCRIPTION:Calling all Young Alumni!\n\nJoin us for a ND Young Alumni
  morning social at Butler Pitch & Putt!\n\nAll skill levels welcome - 
 experienced golfer or complete beginner\, Butler is a relaxed\, 9-hole
  par-3 course accessible to anyone. Clubs and balls available to rent 
 for only $1\, round is $15 (estimated play through time: 1.5 hours).\n
 \nDon’t feel like playing a round? No worries! Come start your day wit
 h cold beverages\, food\, lawn games\, and good vibes alongside fellow
  ND alumni.\n\nWhat: ND Club of Austin Young Alumni Social\nWhere: But
 ler Pitch & Putt\, 201 Lee Barton Dr\, Austin\, TX 78704\nWhen: Saturd
 ay\, June 8th\, 9AM-12PM (come and go as you please)For more informati
 on\, check out Butler Pitch & Putt’s website\, email Michael Perll at 
 michaelperll@ndclubofaustin.com\, or join the Young Alumni Slack.\n\n 
X-ALT-DESC;FMTTYPE=text/html:<p>Calling all Young Alumni!</p>\n<p>Join
  us for a ND Young Alumni morning social at Butler Pitch &amp\; Putt!<
 /p>\n<p>All skill levels welcome &#8211\; experienced golfer or comple
 te beginner\, Butler is a relaxed\, 9-hole par-3 course accessible to 
 anyone. Clubs and balls available to rent for only $1\, round is $15 (
 estimated play through time: 1.5 hours).</p>\n<p>Don’t feel like playi
 ng a round? No worries! Come start your day with cold beverages\, food
 \, lawn games\, and good vibes alongside fellow ND alumni.</p>\n<p>Wha
 t: ND Club of Austin Young Alumni Social<br>\nWhere: Butler Pitch &amp
 \; Putt\, <a class=c-link href=https://www.google.com/maps/place/Butle
 r+Park+Pitch+%26+Putt/@30.2627119\,-97.7564402\,15z/data=!4m2!3m1!1s0x
 0:0xa9962594c49b9146?sa=X&amp\;ved=2ahUKEwjajcDu7Z_lAhUH7awKHWN9BpEQ_B
 IwCnoECA8QCA target=_blank rel=noopener noreferrer data-stringify-link
 =https://www.google.com/maps/place/Butler+Park+Pitch+%26+Putt/@30.2627
 119\,-97.7564402\,15z/data=!4m2!3m1!1s0x0:0xa9962594c49b9146?sa=X&amp\
 ;ved=2ahUKEwjajcDu7Z_lAhUH7awKHWN9BpEQ_BIwCnoECA8QCA data-sk=tooltip_p
 arent>201 Lee Barton Dr\, Austin\, TX 78704</a><br>\nWhen: Saturday\, 
 June 8th\, 9AM-12PM (come and go as you please)For more information\, 
 check out Butler Pitch &amp\; Putt’s <a class=c-link href=https://butl
 erpitchandputt.com/ target=_blank rel=noopener noreferrer data-stringi
 fy-link=https://butlerpitchandputt.com/ data-sk=tooltip_parent>website
 </a>\, email Michael Perll at <a class=c-link href=mailto:michaelperll
 @ndclubofaustin.com target=_blank rel=noopener noreferrer data-stringi
 fy-link=mailto:michaelperll@ndclubofaustin.com data-sk=tooltip_parent 
 aria-haspopup=menu>michaelperll@ndclubofaustin.com</a>\, or join the Y
 oung Alumni <a class=c-link href=https://join.slack.com/t/ndcoa-younga
 lumni/shared_invite/zt-2jv74n6j4-AT4FtCbR2HGYIpYu7IidmA target=_blank 
 rel=noopener noreferrer data-stringify-link=https://join.slack.com/t/n
 dcoa-youngalumni/shared_invite/zt-2g9i0sw0n-sgSpeJ93A9pZUbFWvDI3AA dat
 a-sk=tooltip_parent>Slack</a>.</p>\n<p>&nbsp\;</p>\n
URL:https://ndclubofaustin.com/events/ndcoa-young-alumni-june-social/?
 lang=en
ATTACH:https://ndclubofaustin.com/events/ndcoa-young-alumni-june-socia
 l/?lang=en
ATTACH:https://ndclubofaustin.com/wp-content/uploads/2024/05/NDCOA-YA-
 June-Social-300x300.png
LOCATION:Butler Pitch & Putt\, 201 Lee Barton Dr.\, Austin
END:VEVENT
END:VCALENDAR
