BEGIN:VCALENDAR
VERSION:2.0
METHOD:PUBLISH
PRODID:-//hacksw/handcal//NONSGML v1.0//EN
BEGIN:VEVENT
DTSTAMP:20260419T142221Z
DTSTART:20241004T134500Z
DTEND:20241004T154500Z
UID:20241004T134500Z-20241004T154500Z-2426@ndclubofaustin.com
SUMMARY:Monthly First Friday Mass & Coffee
DESCRIPTION:Join our Senior Alumni & Friends at the 8:45 am Mass at St
 . John Neumann Church then head to Kerbey Lane for coffee & camaraderi
 e.\n\nSt. John Neumann Catholic Church\n5455 Bee Caves Rd.\nwest lake 
 hills\, TX 78746\n\nContact Sue Georgen-Saad with questions.
X-ALT-DESC;FMTTYPE=text/html:<p>Join our Senior Alumni &amp\; Friends 
 at the 8:45 am Mass at <a href=https://sjnaustin.org><strong>St. John 
 Neumann Church</strong></a> then head to Kerbey Lane for coffee &amp\;
  camaraderie.</p>\n<p>St. John Neumann Catholic Church<br>\n5455 Bee C
 aves Rd.<br>\nwest lake hills\, TX 78746</p>\n<p>Contact <a href=mailt
 o:georgensaad@gmail.com?subject=1st%20Friday%20Mass target=_blank rel=
 noopener noreferrer><strong>Sue Georgen-Saad</strong></a> with questio
 ns.</p>\n
URL:https://ndclubofaustin.com/events/monthly-first-friday-mass-7/?lan
 g=en
ATTACH:https://ndclubofaustin.com/events/monthly-first-friday-mass-7/?
 lang=en
ATTACH:https://ndclubofaustin.com/wp-content/uploads/2024/09/NDCOA-Fir
 st-Friday-Mass-Oct-2024-300x169.png
LOCATION:St. John Neumann Catholic Church\, 5455 Bee Cave Rd\, West La
 ke Hills\, TX
END:VEVENT
END:VCALENDAR
