BEGIN:VCALENDAR
VERSION:2.0
METHOD:PUBLISH
PRODID:-//hacksw/handcal//NONSGML v1.0//EN
BEGIN:VEVENT
DTSTAMP:20260423T230744Z
DTSTART:20230812T200000Z
DTEND:20230812T220000Z
UID:20230812T200000Z-20230812T220000Z-2320@ndclubofaustin.com
SUMMARY:ND Club of Austin 2023 Student Send-Off
DESCRIPTION:You’re cordially invited to the Notre Dame Club of Austin’
 s 2023 Student Send-Off!\n\n\n\n\n\n\n\n\nGet together and meet our in
 coming Freshmen\, as well as other returning Students\, at the Notre D
 ame Club of Austin's 2032 Student Send-Off\, Saturday\, August 12th\, 
 2023\, from 3-5 PM.\n\nWe'd love to get as many Alumni there as possib
 le to share their experiences and discuss all things dorms\, majors\, 
 and everyday life at Notre Dame.\n\nOur hosts for this year's event ar
 e current student parents\, Meg and Steve Abbott (son - senior\, daugh
 ter - incoming freshman)\, who have graciously offered their home for 
 this event.\n\nSo that we have an idea of the headcount for food/bever
 age to go around\, please RSVP here (https://betterunite.com/notredame
 clubofaustin-2023studentsend-off) by Wednesday\, 9 August 2023.\n\nThe
  Abbott house is located at 4209 Verano Drive\, Austin\, Texas\, 78735
X-ALT-DESC;FMTTYPE=text/html:<div class=campaigncontentheadline>\n<div
  class=col-md-12 pt-medium pb-none pr-small pl-none h4 fancy bold font
 18><br>\nYou’re cordially invited to the Notre Dame Club of Austin’s 2
 023 Student Send-Off!</p>\n</div>\n</div>\n<form id=frmGifts action=ht
 tps://betterunite.com/notredameclubofaustin-2023studentsend-off/Campai
 gnDonate method=POST name=frmGifts>\n<div class=col-sm-12 pl-none pr-n
 one pb-xlarge-2>\n<div id=causes class=row>\n<div class=col-sm-12 pl-n
 one pr-none><br>\nGet together and meet our incoming Freshmen\, as wel
 l as other returning Students\, at the Notre Dame Club of Austin&#8217
 \;s 2032 Student Send-Off\, Saturday\, August 12th\, 2023\, from 3-5 P
 M.</p>\n<p>We&#8217\;d love to get as many Alumni there as possible to
  share their experiences and discuss all things dorms\, majors\, and e
 veryday life at Notre Dame.</p>\n<p>Our hosts for this year&#8217\;s e
 vent are current student parents\, Meg and Steve Abbott (son &#8211\; 
 senior\, daughter &#8211\; incoming freshman)\, who have graciously of
 fered their home for this event.</p>\n<p>So that we have an idea of th
 e headcount for food/beverage to go around\, please RSVP here (<a href
 =https://betterunite.com/notredameclubofaustin-2023studentsend-off>htt
 ps://betterunite.com/notredameclubofaustin-2023studentsend-off</a>) by
  Wednesday\, 9 August 2023.</p>\n<p>The Abbott house is located at 420
 9 Verano Drive\, Austin\, Texas\, 78735</p>\n</div>\n</div>\n</div>\n<
 /form>\n
URL:https://ndclubofaustin.com/events/nd-club-of-austin-2023-student-s
 end-off/?lang=en
ATTACH:https://ndclubofaustin.com/events/nd-club-of-austin-2023-studen
 t-send-off/?lang=en
ATTACH:https://ndclubofaustin.com/wp-content/uploads/2023/07/NDCOA-Stu
 den-Send-Off-1-200x300.png
LOCATION:The Abbotts\, 4209 Verano Drive\, Austin
END:VEVENT
END:VCALENDAR
