BEGIN:VCALENDAR
VERSION:2.0
METHOD:PUBLISH
PRODID:-//hacksw/handcal//NONSGML v1.0//EN
BEGIN:VEVENT
DTSTAMP:20260423T230028Z
DTSTART:20230802T163000Z
DTEND:20230802T180000Z
UID:20230802T163000Z-20230802T180000Z-2319@ndclubofaustin.com
SUMMARY:NDWC Austin Group - August Lunch Meetup
DESCRIPTION:NDWC Let’s Do Lunch\nThe Notre Dame Women Connect (NDWC) –
  Austin group is meeting again for lunch. This time we’ll meet at 11:3
 0 AM at Baretto Bistro in Central Austin. This new restaurant offers t
 astes of France\, Italy and Texas in a casual atmosphere. Please email
  Nancy (nancy@ndclubofaustin.com) if you plan to be there so we can sa
 ve you a seat!\n\nWhere: Baretto Bistro - 1206B West 38th St (in the 2
 6 Doors Plaza)\, Austin\, TX 78756\n\nWhen: Wednesday\, August 2nd @ 1
 1:30AM
X-ALT-DESC;FMTTYPE=text/html:<div><span class=s7><span class=bumpedFon
 t20>NDWC </span></span><span class=s7><span class=bumpedFont20>Let’s D
 o Lunch</span></span></div>\n<p><span class=s8><span class=bumpedFont2
 0>The </span></span><span class=s8><span class=bumpedFont20>Notre Dame
  Women Connect (NDWC)</span></span><span class=s8><span class=bumpedFo
 nt20> – Austin group is meeting again for lunch. This time we’ll meet 
 at </span></span><span class=s8><span class=bumpedFont20>11:30 AM at <
 /span></span><span class=s8><span class=bumpedFont20>Baretto Bistro </
 span></span><span class=s8><span class=bumpedFont20>in Central Austin.
  This new restaurant offers </span></span><span class=s8><span class=b
 umpedFont20>tastes of France\, </span></span><span class=s8><span clas
 s=bumpedFont20>Italy</span></span><span class=s8><span class=bumpedFon
 t20> and Texa</span></span><span class=s8><span class=bumpedFont20>s i
 n a casual atmosphere. Please email Nancy (</span></span><a href=mailt
 o:nancy@ndclubofaustin.com><span class=s12><span class=bumpedFont20>na
 ncy@ndclubofaustin.com</span></span></a><span class=s8><span class=bum
 pedFont20>) if you plan to be there so we can save you a seat!</span><
 /span></p>\n<p><span class=s7><span class=bumpedFont20>Where:</span></
 span> <span class=s8><span class=bumpedFont20>Baretto Bistro</span></s
 pan><span class=s8><span class=bumpedFont20> &#8211\; </span></span><s
 pan class=s8><span class=bumpedFont20>1206B W</span></span><span class
 =s8><span class=bumpedFont20>est</span></span><span class=s8><span cla
 ss=bumpedFont20> 38</span></span><span class=s8><span class=bumpedFont
 20>th</span></span> <span class=s8><span class=bumpedFont20>St (in the
 </span></span><span class=s8><span class=bumpedFont20> 26 </span></spa
 n><span class=s8><span class=bumpedFont20>Doors Plaza)\, Austin\, TX 7
 8756</span></span></p>\n<p><span class=s7><span class=bumpedFont20>Whe
 n:</span></span><span class=s8><span class=bumpedFont20> Wednesday\, A
 ugust 2nd @ 11:30AM</span></span></p>\n
URL:https://ndclubofaustin.com/events/ndwc-austin-group-august-lunch-m
 eetup/?lang=en
ATTACH:https://ndclubofaustin.com/events/ndwc-austin-group-august-lunc
 h-meetup/?lang=en
ATTACH:https://ndclubofaustin.com/wp-content/uploads/2023/07/NDCOA-NDW
 C-Aug-Lunch-1-300x251.png
LOCATION:Baretto Bistro\, 1206B West 38th St.\, Austin
END:VEVENT
END:VCALENDAR
