BEGIN:VCALENDAR
VERSION:2.0
METHOD:PUBLISH
PRODID:-//hacksw/handcal//NONSGML v1.0//EN
BEGIN:VEVENT
DTSTAMP:20260424T003028Z
DTSTART:20230405T163000Z
DTEND:20230405T183000Z
UID:20230405T163000Z-20230405T183000Z-2315@ndclubofaustin.com
SUMMARY:ND Women Connect - April Lunch
DESCRIPTION:Let’s Have Lunch!\n\nWe plan to gather for another ND Wome
 n Connect Lunch on April 5th. If you read the Spring NDWC book selecti
 on\, The Rabbit Hutch\, you can hang around after lunch for a short di
 scussion of the book.\n\nOtherwise\, please join us for a meal and cha
 nce to visit with each other about the success of our Women’s Basketba
 ll Team or any of your other favorite topics.  We look forward to seei
 ng you then!\n\nFor Questions and/or to RSVP\, please email me so we k
 now you’ll be meeting up with us\, thanks!\nnancy@ndclubofaustin.com\n
 \nDetails:\nTIME: 11:30AM\nDATE: Wednesday\, April 5th\nLOOCATION: Caf
 e at Central Market\, 4001 N. Lamar Blvd\, Austin TX 78756
X-ALT-DESC;FMTTYPE=text/html:<p>Let’s Have Lunch!</p>\n<p>We plan to g
 ather for another ND Women Connect Lunch on April 5th. If you read the
  Spring NDWC book selection\, The Rabbit Hutch\, you can hang around a
 fter lunch for a short discussion of the book.</p>\n<p>Otherwise\, ple
 ase join us for a meal and chance to visit with each other about the s
 uccess of our Women’s Basketball Team or any of your other favorite to
 pics.  We look forward to seeing you then!</p>\n<p>For Questions and/o
 r to RSVP\, please email me so we know you’ll be meeting up with us\, 
 thanks!<br>\nnancy@ndclubofaustin.com</p>\n<p>Details:<br>\nTIME: 11:3
 0AM<br>\nDATE: Wednesday\, April 5th<br>\nLOOCATION: Cafe at Central M
 arket\, 4001 N. Lamar Blvd\, Austin TX 78756</p>\n
URL:https://ndclubofaustin.com/events/nd-women-connect-april-lunch/?la
 ng=en
ATTACH:https://ndclubofaustin.com/events/nd-women-connect-april-lunch/
 ?lang=en
ATTACH:https://ndclubofaustin.com/wp-content/uploads/2023/03/NDWC-Lunc
 h-April-2023-232x300.png
LOCATION:Cafe at Central Market\, 4001 N. Lamar Blvd\, Austin
END:VEVENT
END:VCALENDAR
