BEGIN:VCALENDAR
VERSION:2.0
METHOD:PUBLISH
PRODID:-//hacksw/handcal//NONSGML v1.0//EN
BEGIN:VEVENT
DTSTAMP:20260423T231127Z
DTSTART:20230219T120000Z
DTEND:20230219T160000Z
UID:20230219T120000Z-20230219T160000Z-2314@ndclubofaustin.com
SUMMARY:Austin Marathon - Volunteer with NDCoA and Austin Achieve
DESCRIPTION:Join Clare Mundy\, ND Class of 2012 and Director of Develo
 pment at Austin Achieve Public Schools\, in cheering on runners at the
  2023 Austin Marathon!\nAustin Achieve and ND Club of Austin will be c
 overing the Mile 8 Aid Station\, a prime volunteer station because we 
 get to pass out water and cheer on our full marathon and half marathon
  Austin Achieve runners\, all while being shaded by the beautiful MoPa
 c Bridge!  Station details and times are listed below.  Volunteers wil
 l also receive FREE Marathon and Team Achieve swag.\n\n\n 	\nAid Stati
 on: Mile 8\n\n 	\nLocation: The Rock 2102 Stephen F. Austin Dr\n\n 	\n
 Shift Start Time: Sunday\, February 19\, 6:00 am\n\n 	\nShift End Time
 : Sunday\, February 19\, 10:00 am\n\n\n\nAnyone interested can sign up
  here to volunteer! If you plan on volunteering\, don’t forget to add 
 the event to your calendar. For more information please reach out to C
 lare Mundy '12 at cmundy@austinachieve.org.
X-ALT-DESC;FMTTYPE=text/html:<p>Join Clare Mundy\, ND Class of 2012 an
 d Director of Development at Austin Achieve Public Schools\, in cheeri
 ng on runners at the 2023 Austin Marathon!</p>\n<p dir=ltr>Austin Achi
 eve and ND Club of Austin will be covering the Mile 8 Aid Station\, a 
 prime volunteer station because we get to pass out water and cheer on 
 our full marathon and half marathon Austin Achieve runners\, all while
  being shaded by the beautiful MoPac Bridge!  Station details and time
 s are listed below.  Volunteers will also receive FREE Marathon and Te
 am Achieve swag.</p>\n<ul>\n<li dir=ltr>\n<p dir=ltr role=presentation
 >Aid Station: Mile 8</p>\n</li>\n<li dir=ltr>\n<p dir=ltr role=present
 ation>Location: The Rock 2102 Stephen F. Austin Dr</p>\n</li>\n<li dir
 =ltr>\n<p dir=ltr role=presentation>Shift Start Time: Sunday\, Februar
 y 19\, 6:00 am</p>\n</li>\n<li dir=ltr>\n<p dir=ltr role=presentation>
 Shift End Time: Sunday\, February 19\, 10:00 am\n</p>\n</li>\n</ul>\n<
 p dir=ltr>Anyone interested can sign up<a href=https://ndclubofaustin.
 us8.list-manage.com/track/click?u=9d8e1e8f52884b100e915f024&amp\;id=4a
 beefa0e3&amp\;e=a0913f7a69 target=_blank rel=noopener data-saferedirec
 turl=https://www.google.com/url?q=https://ndclubofaustin.us8.list-mana
 ge.com/track/click?u%3D9d8e1e8f52884b100e915f024%26id%3D4abeefa0e3%26e
 %3Da0913f7a69&amp\;source=gmail&amp\;ust=1674151677264000&amp\;usg=AOv
 Vaw3eTAi_flL1B2G7WEHz4Yvk> here</a> to volunteer! If you plan on volun
 teering\, don’t forget to <a href=https://ndclubofaustin.us8.list-mana
 ge.com/track/click?u=9d8e1e8f52884b100e915f024&amp\;id=6f559682af&amp\
 ;e=a0913f7a69 target=_blank rel=noopener data-saferedirecturl=https://
 www.google.com/url?q=https://ndclubofaustin.us8.list-manage.com/track/
 click?u%3D9d8e1e8f52884b100e915f024%26id%3D6f559682af%26e%3Da0913f7a69
 &amp\;source=gmail&amp\;ust=1674151677264000&amp\;usg=AOvVaw1Q9Ix9mt3y
 7AdGwFngWTsM>add the event to your calendar</a>. For more information 
 please reach out to Clare Mundy &#8217\;12 at <a href=mailto:cmundy@au
 stinachieve.org target=_blank rel=noopener>cmundy@austinachieve.org</a
 >.</p>\n
URL:https://ndclubofaustin.com/events/austin-marathon-volunteer-with-n
 dcoa-and-austin-achieve/?lang=en
ATTACH:https://ndclubofaustin.com/events/austin-marathon-volunteer-wit
 h-ndcoa-and-austin-achieve/?lang=en
ATTACH:https://ndclubofaustin.com/wp-content/uploads/2023/01/Austin-Ac
 hieve-Volunteer-300x105.png
LOCATION:The Rock\, 2104 Stephen F Austin Dr\, Austin
END:VEVENT
END:VCALENDAR
