BEGIN:VCALENDAR
VERSION:2.0
METHOD:PUBLISH
PRODID:-//hacksw/handcal//NONSGML v1.0//EN
BEGIN:VEVENT
DTSTAMP:20260424T004430Z
DTSTART:20230124T233200Z
DTEND:20230124T233200Z
UID:20230124T233200Z-20230124T233200Z-2313@ndclubofaustin.com
SUMMARY:Norte Dame Women Connect Lunch - January
DESCRIPTION:Have Lunch with Notre Dame Women Connect (NDWC) - Austin\n
 \nCome join us for a casual lunch in North-Central Austin at MezzeMe i
 n the Triangle.  We’ll meet there at 11:30AM on Tuesday\, January 24th
 . We’re kicking off 2023 with this NDWC event and hope to have a varie
 ty of other get togethers over the course of this year.  If you have q
 uestions or can’t make it\, but have event suggestions\, please contac
 t: Nancy@ndclubofaustin.com\n\nWHEN: January 24th at 11:30am\nWHERE: M
 ezzeMe\, 4700 West Guadalupe Street\, Suite 9\, Austin\, TX 78751
X-ALT-DESC;FMTTYPE=text/html:<div><b>Have Lunch with Notre Dame Women 
 Connect (NDWC) &#8211\; Austin</b></div>\n<div></div>\n<div>Come join 
 us for a casual lunch in North-Central Austin at MezzeMe in the Triang
 le.  We’ll meet there at 11:30AM on Tuesday\, January 24th. We’re kick
 ing off 2023 with this NDWC event and hope to have a variety of other 
 get togethers over the course of this year.  If you have questions or 
 can’t make it\, but have event suggestions\, please contact: <a href=m
 ailto:Nancy@ndclubofaustin.com target=_blank rel=noopener>Nancy@ndclub
 ofaustin.com</a></div>\n<div></div>\n<div>WHEN: January 24th at 11:30a
 m</div>\n<div>WHERE: MezzeMe\, 4700 West Guadalupe Street\, Suite 9\, 
 Austin\, TX 78751</div>\n
URL:https://ndclubofaustin.com/events/norte-dame-women-connect-lunch-j
 anuary/?lang=en
ATTACH:https://ndclubofaustin.com/events/norte-dame-women-connect-lunc
 h-january/?lang=en
ATTACH:https://ndclubofaustin.com/wp-content/uploads/2023/01/NDWC-ATX-
 Lunch-2023-300x300.png
LOCATION:MezzeMe\, 4700 West Guadalupe Street\, Suite 9\, Austin
END:VEVENT
END:VCALENDAR
