BEGIN:VCALENDAR
VERSION:2.0
METHOD:PUBLISH
PRODID:-//hacksw/handcal//NONSGML v1.0//EN
BEGIN:VEVENT
DTSTAMP:20260423T231204Z
DTSTART:20230114T143000Z
DTEND:20230114T180000Z
UID:20230114T143000Z-20230114T180000Z-2312@ndclubofaustin.com
SUMMARY:Notre Dame Club of Austin Volunteer Day - Central Texas Food B
 ank
DESCRIPTION:Join the ND club of Austin for a day of volunteering at th
 e Central Texas Food Bank on Saturday\, January 14th from 8:50am-12pm.
 \nFor anyone that's free\, we will plan to have lunch at Vacancy brewi
 ng/SXSE Food Co afterwards (or tbd weather permitting). \n\nWe are hop
 ing to have a great showing to start the year! If you're interested\, 
 please register here and email deasatrio@gmail.com to confirm you're c
 oming or with any questions. See below for details. **every volunteer 
 must register separately**\n\n-----\n\nWho\nThe minimum age to partici
 pate is 8 years old. Minors under the age of 18 must be accompanied by
  an adult who is from their same household and is age 21+ (both must r
 egister)\n\nWhat\nAs a warehouse volunteer you’ll help us inspect\, cl
 ean\, sort\, box\, and prepare donated food and non-food items to dist
 ribute to our Partner Agencies and distribution programs and the folks
  they serve. Here is a video that details what you can expect as a vol
 unteer.\n\nWhen\nSaturday\, January 14\, 2022\n\nWhere\nCentral Texas 
 Food Bank\n6500 Metropolis Drive\nAustin\, TX 78744\n\nTime: 8:50am to
  12pm \nVolunteer shift starts promptly at 9am\, so please arrive by 8
 :50am to get signed in and ready to go. All volunteers are required to
  stay for the duration of the shift.\n\nRegistration link: http://notr
 edamealumniaustin.cafb.volunteerhub.com/ . Email deasatrio@gmail.com a
 fter you've signed up so Dea can communicate with the group.\n\nProtoc
 ols \nPlease make sure you wear closed-toe shoes and a top with sleeve
 s (short sleeves are fine) for your shift. If you need a water bottle\
 , please bring your own.\n\nCOVID: The Central Texas Food Bank is now 
 a mask-optional facility for vaccinated individuals. Please see the FA
 Q page for the most updated information.
X-ALT-DESC;FMTTYPE=text/html:<p><span style=color: #000000\; font-fami
 ly: open sans\, helvetica neue\, helvetica\, arial\, sans-serif\;>Join
  the ND club of Austin for a day of volunteering at the <strong>Centra
 l Texas Food Bank on Saturday\, January 14th from 8:50am-12pm</strong>
 .<br>\nFor anyone that&#8217\;s free\, we will plan to have lunch at V
 acancy brewing/SXSE Food Co afterwards (or tbd weather permitting). </
 span></p>\n<p><span style=color: #000000\; font-family: open sans\, he
 lvetica neue\, helvetica\, arial\, sans-serif\;>We are hoping to have 
 a great showing to start the year! If you&#8217\;re interested\, </spa
 n><strong>please register <a href=https://ndclubofaustin.us8.list-mana
 ge.com/track/click?u=9d8e1e8f52884b100e915f024&amp\;id=aadfec4550&amp\
 ;e=a0913f7a69 target=_blank rel=noopener data-saferedirecturl=https://
 www.google.com/url?q=https://ndclubofaustin.us8.list-manage.com/track/
 click?u%3D9d8e1e8f52884b100e915f024%26id%3Daadfec4550%26e%3Da0913f7a69
 &amp\;source=gmail&amp\;ust=1672941971382000&amp\;usg=AOvVaw0IcPtCw2xC
 FVMUtc1QDmbj>here</a></strong> and email <a href=mailto:deasatrio@gmai
 l.com target=_blank rel=noopener>deasatrio@gmail.com</a> to confirm yo
 u&#8217\;re coming or with any questions. See below for details. **eve
 ry volunteer must register separately**</p>\n<p>&#8212\;&#8211\;</p>\n
 <p><strong>Who</strong><br>\nThe minimum age to participate is 8 years
  old. Minors under the age of 18 must be accompanied by an adult who i
 s from their same household and is age 21+ (both must register)</p>\n<
 p><strong>What</strong><br>\nAs a warehouse volunteer you’ll help us i
 nspect\, clean\, sort\, box\, and prepare donated food and non-food it
 ems to distribute to our Partner Agencies and distribution programs an
 d the folks they serve. Here is a <a href=https://ndclubofaustin.us8.l
 ist-manage.com/track/click?u=9d8e1e8f52884b100e915f024&amp\;id=8dba014
 b85&amp\;e=a0913f7a69 target=_blank rel=noopener data-saferedirecturl=
 https://www.google.com/url?q=https://ndclubofaustin.us8.list-manage.co
 m/track/click?u%3D9d8e1e8f52884b100e915f024%26id%3D8dba014b85%26e%3Da0
 913f7a69&amp\;source=gmail&amp\;ust=1672941971382000&amp\;usg=AOvVaw3E
 5X5yHaM8YXaURlZpi-BP>video</a> that details what you can expect as a v
 olunteer.</p>\n<p><strong>When</strong><br>\nSaturday\, January 14\, 2
 022</p>\n<p><strong>Where</strong><br>\nCentral Texas Food Bank<br>\n6
 500 Metropolis Drive<br>\nAustin\, TX 78744</p>\n<p><strong>Time: 8:50
 am to 12pm </strong><br>\nVolunteer shift starts promptly at 9am\, so 
 please arrive by 8:50am to get signed in and ready to go. <em>All volu
 nteers</em> <em>are required to stay for the duration of the shift</em
 >.</p>\n<p><strong>Registration link: </strong><a href=https://ndclubo
 faustin.us8.list-manage.com/track/click?u=9d8e1e8f52884b100e915f024&am
 p\;id=1b2fe542c5&amp\;e=a0913f7a69 target=_blank rel=noopener data-saf
 eredirecturl=https://www.google.com/url?q=https://ndclubofaustin.us8.l
 ist-manage.com/track/click?u%3D9d8e1e8f52884b100e915f024%26id%3D1b2fe5
 42c5%26e%3Da0913f7a69&amp\;source=gmail&amp\;ust=1672941971382000&amp\
 ;usg=AOvVaw1VSH6djrh4q56SWps6Ngm6>http://<wbr />notredamealumniaustin.
 cafb.<wbr />volunteerhub.com/</a> . Email <a href=mailto:deasatrio@gma
 il.com target=_blank rel=noopener>deasatrio@gmail.com</a> <wbr />after
  you&#8217\;ve signed up so Dea can communicate with the group.</p>\n<
 p><strong>Protocols </strong><br>\nPlease make sure you wear closed-to
 e shoes and a top with sleeves (short sleeves are fine) for your shift
 . If you need a water bottle\, please bring your own.</p>\n<p><strong>
 COVID: The Central Texas Food Bank is now a mask-optional facility for
  vaccinated individuals. Please see the <a href=https://ndclubofaustin
 .us8.list-manage.com/track/click?u=9d8e1e8f52884b100e915f024&amp\;id=8
 1ff202f38&amp\;e=a0913f7a69 target=_blank rel=noopener data-saferedire
 cturl=https://www.google.com/url?q=https://ndclubofaustin.us8.list-man
 age.com/track/click?u%3D9d8e1e8f52884b100e915f024%26id%3D81ff202f38%26
 e%3Da0913f7a69&amp\;source=gmail&amp\;ust=1672941971382000&amp\;usg=AO
 vVaw1ZhETkw0Z8zXYaD8G5B6-1>FAQ page</a> for the most updated informati
 on.</strong></p>\n
URL:https://ndclubofaustin.com/events/notre-dame-club-of-austin-volunt
 eer-day-central-texas-food-bank/?lang=en
ATTACH:https://ndclubofaustin.com/events/notre-dame-club-of-austin-vol
 unteer-day-central-texas-food-bank/?lang=en
ATTACH:https://ndclubofaustin.com/wp-content/uploads/2023/01/CTFB-Jan-
 2023-300x300.png
LOCATION:Central Texas Food Bank\, 6500 Metropolis Dr.\, Austin
END:VEVENT
END:VCALENDAR
