BEGIN:VCALENDAR
VERSION:2.0
METHOD:PUBLISH
PRODID:-//hacksw/handcal//NONSGML v1.0//EN
BEGIN:VEVENT
DTSTAMP:20260424T001958Z
DTSTART:20220720T233000Z
DTEND:20220721T013000Z
UID:20220720T233000Z-20220721T013000Z-2293@ndclubofaustin.com
SUMMARY:2022 UND Celebration
DESCRIPTION:The Notre Dame Club of Austin is thrilled and honored to o
 nce again host the Universal Notre Dame Celebration on Wednesday\, 20 
 July 2022 at 6.30p at the Lower Colorado River Authority (LCRA) Redbud
  Center in Austin.  This year's event will feature Kevin Corrigan\, th
 e Baumer Family Head Men’s Lacrosse Coach\, as our guest speaker.\n\nT
 he Universal Notre Dame (UND) Celebration program began as a radio bro
 adcast in 1924\, and has been bringing the Notre Dame campus to local 
 communities for nearly 100 years.  It provides an opportunity to hear 
 from distinguished administrators\, faculty and staff from the Univers
 ity and to connect as a community in celebration of the unique charact
 er of Notre Dame.\n\nA brief video history of UND Celebrations can be 
 found here.\n\nThe theme for this year’s UND Celebration is:\nGolden i
 s Thy Fame:\nCelebrating 50 Years of Undergraduate Women\n\nThis topic
  will explore how women have shaped the University since its early day
 s and how the undergraduate experience has evolved from 1972 to today\
 , and will also spotlight the perspectives of alumnae from each genera
 tion.  This is an opportunity for all alumni\, parents and friends to 
 discuss and reflect on how this seminal event decades ago at Notre Dam
 e has better positioned its graduates as Forces for Good.  More inform
 ation about the impact of women on Our Lady's University can be found 
 here.\n\nThe LCRA Redbud Center is located at 3601 Lake Austin Bouleva
 rd in Austin\, west of Austin’s Central Business District and of the M
 oPac Expressway.  The Club will be providing snacks/appetizers\, and\,
  to ensure an adequate amount\, we ask that you please RSVP here.
X-ALT-DESC;FMTTYPE=text/html:<p>The Notre Dame Club of Austin is thril
 led and honored to once again host the Universal Notre Dame Celebratio
 n on Wednesday\, 20 July 2022 at 6.30p at the Lower Colorado River Aut
 hority (LCRA) Redbud Center in Austin.  This year&#8217\;s event will 
 feature Kevin Corrigan\, the Baumer Family Head Men’s Lacrosse Coach\,
  as our guest speaker.</p>\n<p>The Universal Notre Dame (UND) Celebrat
 ion program began as a radio broadcast in 1924\, and has been bringing
  the Notre Dame campus to local communities for nearly 100 years.  It 
 provides an opportunity to hear from distinguished administrators\, fa
 culty and staff from the University and to connect as a community in c
 elebration of the unique character of Notre Dame.</p>\n<p>A brief vide
 o history of UND Celebrations can be found <a href=https://www.youtube
 .com/watch?v=6ya8c1_C3M8&amp\;feature=youtu.be>here</a>.</p>\n<p>The t
 heme for this year’s UND Celebration is:<br>\n<em>Golden is Thy Fame:<
 br>\nCelebrating 50 Years of Undergraduate Women</em><br>\n<br>\nThis 
 topic will explore how women have shaped the University since its earl
 y days and how the undergraduate experience has evolved from 1972 to t
 oday\, and will also spotlight the perspectives of alumnae from each g
 eneration.  This is an opportunity for all alumni\, parents and friend
 s to discuss and reflect on how this seminal event decades ago at Notr
 e Dame has better positioned its graduates as Forces for Good.  More i
 nformation about the impact of women on Our Lady&#8217\;s University c
 an be found <a href=https://50goldenyears.nd.edu>here</a>.</p>\n<p>The
  LCRA Redbud Center is located at 3601 Lake Austin Boulevard in Austin
 \, west of Austin’s Central Business District and of the MoPac Express
 way.  The Club will be providing snacks/appetizers\, and\, to ensure a
 n adequate amount\, we ask that you please RSVP <a href=https://www.be
 tterunite.com/notredameclubofaustin-2022universalnotredamecelebration>
 here</a>.</p>\n
URL:https://ndclubofaustin.com/events/2022-und-celebration/?lang=en
ATTACH:https://ndclubofaustin.com/events/2022-und-celebration/?lang=en
ATTACH:https://ndclubofaustin.com/wp-content/uploads/2022/07/2022-UND-
 Ceelebration-300x169.jpg
LOCATION:LCRA Redbud Center\, 3601 Lake Austin Boulevard\, Austin
END:VEVENT
END:VCALENDAR
