BEGIN:VCALENDAR
VERSION:2.0
METHOD:PUBLISH
PRODID:-//hacksw/handcal//NONSGML v1.0//EN
BEGIN:VEVENT
DTSTAMP:20260424T004130Z
DTSTART:20220428T160000Z
DTEND:20220428T180000Z
UID:20220428T160000Z-20220428T180000Z-2290@ndclubofaustin.com
SUMMARY:NDWC Austin - Lunch/Book Discussion
DESCRIPTION:What:\nNDWC Austin - Lunch/Book Discussion \nWe’re meeting
  for lunch and to discuss our love of books.\nWe’ll share thoughts on 
 the NDWC Shared Read choice\, These Precious Days by Ann Patchett and 
 visit over some good food and drink.  Please join us even if you didn’
 t read this Spring’s selection.  We’d love to see you!\n\nContact Nanc
 y (Nancy@ndclubofaustin.com) if you have any questions\n \nWhen:\nThur
 sday\, April 28 @ 11 AM\n \nWhere:\nÉpicerie\n2307 Hancock Drive\nAust
 in\, Texas 78756
X-ALT-DESC;FMTTYPE=text/html:<div><b>What:</b></div>\n<div><b>NDWC Aus
 tin &#8211\; Lunch/Book Discussion </b></div>\n<div>We’re meeting for 
 lunch and to discuss our love of books.</div>\n<div>We’ll share though
 ts on the NDWC Shared Read choice\, <i>These Precious Days</i> by Ann 
 Patchett and visit over some good food and drink.  Please join us even
  if you didn’t read this Spring’s selection.  We’d love to see you!</d
 iv>\n<div></div>\n<div>Contact Nancy (<a href=mailto:Nancy@ndclubofaus
 tin.com>Nancy@ndclubofaustin.com</a>) if you have any questions</div>\
 n<div><b> </b></div>\n<div><b>When:</b></div>\n<div><b>Thursday\, Apri
 l 28 @ 11 AM</b></div>\n<div><b> </b></div>\n<div><b>Where:</b></div>\
 n<div><b>Épicerie</b></div>\n<div>2307 Hancock Drive</div>\n<div>Austi
 n\, Texas 78756</div>\n
URL:https://ndclubofaustin.com/events/ndwc-austin-lunchbook-discussion
 /?lang=en
ATTACH:https://ndclubofaustin.com/events/ndwc-austin-lunchbook-discuss
 ion/?lang=en
ATTACH:https://ndclubofaustin.com/wp-content/uploads/2022/04/NDWC-Shar
 ed-Read-Book-Discussion-copy-300x102.jpg
LOCATION:Épicerie\, 2307 Hancock Drive\, Austin
END:VEVENT
END:VCALENDAR
