BEGIN:VCALENDAR
VERSION:2.0
METHOD:PUBLISH
PRODID:-//hacksw/handcal//NONSGML v1.0//EN
BEGIN:VEVENT
DTSTAMP:20260423T231127Z
DTSTART:20220507T133000Z
DTEND:20220507T170000Z
UID:20220507T133000Z-20220507T170000Z-2289@ndclubofaustin.com
SUMMARY:Central Texas Food Bank - May Volunteer Service Project
DESCRIPTION:The Notre Dame Club of Austin is proud to announce our nex
 t Service Project coming up in early May with the Central Texas Food B
 ank.\n\nThe Central Texas Food Bank works with food donors across the 
 country\, financial supporters\, and volunteers to fill unmet needs in
  Central Texas. This commitment from private\, government\, and charit
 able partners has allowed them to bring nearly 54 million meals to our
  community last year and into the hands of families and local nonprofi
 ts that turn to them for help.\n\n\nAs a warehouse volunteer\, you’ll 
 help us inspect\, clean\, sort\, box\, and prepare donated food and no
 n-food items to distribute to our Partner Agencies and distribution pr
 ograms and the folks they serve. Here is a video that details what you
  can expect as a volunteer.\n\nLocation\n6500 Metropolis Drive\nAustin
 \, TX 78744\n \nDate: Saturday\, May 7\, 2022\n \nTime: 8:45am to 12pm
  \nThe volunteer shift starts promptly at 9 am\, so please arrive by 8
 :45 am to get signed in and ready to go. All volunteers are required t
 o stay for the duration of the shift. For safety reasons\, volunteers 
 who arrive more than 30 min late will not be allowed to join their gro
 up for the shift.\n \nFacility\nIndoors: Some volunteers will be asked
  to work in a cold area or hot area that is not air-conditioned for th
 e duration of the shift.\n \nRegistration link: http://notredamealumni
 austin.cafb.volunteerhub.com/ . Email deasatrio@gmail.com after you've
  signed up so Dea can communicate with the group. We have 15 spots res
 erved for our group.\n\nProtocols \nPlease make sure you wear closed-t
 oe shoes and a top with sleeves (short sleeves are fine) for your shif
 t. If you need a water bottle\, please bring your own.\n \nVolunteer E
 ligibility\nAge: The minimum age to participate is 8 years old. Minors
  under the age of 18 must be accompanied by an adult who is from their
  same household and is age 21+ in order to serve. Both the minor and a
 dult must create an account and register for their own volunteer spot.
 \n\n\n\nCOVID: The Central Texas Food Bank is now a mask optional faci
 lity for vaccinated individuals. Please see the FAQ page for the most 
 updated information.
X-ALT-DESC;FMTTYPE=text/html:<p><span class=gmail_default>The Notre Da
 me Club of Austin is proud to announce our next Service Project coming
  up in early May with the Central Texas Food Bank.</span></p>\n<p><spa
 n class=gmail_default>The<a href=https://www.centraltexasfoodbank.org>
  Central Texas Food Bank</a></span> work<span class=gmail_default>s</s
 pan> with foo<wbr />d donors across the country\, financial supporters
 \, and volunteers to fill unmet needs in Central Texas. This commitmen
 t from private\, government\, and charitable partners has allowed <spa
 n class=gmail_default>them</span> to bring nearly 54 million meals to 
 our community last year and into the hands of families and local nonpr
 ofits that turn to <span class=gmail_default>them</span> for help.</p>
 \n<div class=gmail_default><br>\nAs a warehouse volunteer\, you’ll hel
 p us inspect\, clean\, sort\, box\, and prepare donated food and non-f
 ood items to distribute to our Partner Agencies and distribution progr
 ams and the folks they serve. Here is a <a href=https://vimeo.com/1847
 20523 target=_blank rel=noopener data-saferedirecturl=https://www.goog
 le.com/url?q=https://vimeo.com/184720523&amp\;source=gmail&amp\;ust=16
 50375214977000&amp\;usg=AOvVaw2NLQ2Jv7aWmlFhMxJVs42K>video</a> that de
 tails what you can expect as a volunteer.</p>\n<div></div>\n<div><b>Lo
 cation</b></div>\n<p>6500 Metropolis Drive<br>\nAustin\, TX 78744</p>\
 n<div><b> </b></div>\n<div><b>Date: Saturday\, May 7\, 2022</b></div>\
 n<div><b> </b></div>\n<div><b>Time: 8:45am to 12pm </b></div>\n<div>Th
 e volunteer shift starts promptly at 9 am\, so please arrive by 8:45 a
 m to get signed in and ready to go. <i>All volunteers</i> <i>are requi
 red to stay for the duration of the shift</i>. For safety reasons\, vo
 lunteers who arrive more than 30 min late will not be allowed to join 
 their group for the shift.</div>\n<div><b> </b></div>\n<div><b>Facilit
 y</b></div>\n<div>Indoors: Some volunteers will be asked to work in a 
 cold area or hot area that is not air-conditioned for the duration of 
 the shift.</div>\n<div><b> </b></div>\n<div><b>Registration link: </b>
 <a href=http://notredamealumniaustin.cafb.volunteerhub.com/ target=_bl
 ank rel=noopener data-saferedirecturl=https://www.google.com/url?q=htt
 p://notredamealumniaustin.cafb.volunteerhub.com/&amp\;source=gmail&amp
 \;ust=1650375214977000&amp\;usg=AOvVaw33uJJa7DTWOVAY6hc_SPci>http://<w
 br />notredamealumniaustin.cafb.<wbr />volunteerhub.com/</a> . Email <
 a href=mailto:deasatrio@gmail.com target=_blank rel=noopener>deasatrio
 @gmail.com</a> after you&#8217\;ve signed up so Dea can communicate wi
 th the group. We have 15 spots reserved for our group.</div>\n<div></d
 iv>\n<div><b>Protocols </b></div>\n<p>Please make sure you wear closed
 -toe shoes and a top with sleeves (short sleeves are fine) for your sh
 ift. If you need a water bottle\, please bring your own.</p>\n<div><b>
  </b></div>\n<div><b>Volunteer Eligibility</b></div>\n<p><b>Age: </b>T
 he minimum age to participate is 8 years old. Minors under the age of 
 18 must be accompanied by an adult who is from their same household an
 d is age 21+ in order to serve. Both the minor and adult must create a
 n account and register for their own volunteer spot.</p>\n</div>\n<div
  class=gmail_default>\n<div><b>COVID: The Central Texas Food Bank is n
 ow a mask optional facility for vaccinated individuals. Please see the
  <a href=https://www.centraltexasfoodbank.org/frequently-asked-questio
 ns-volunteering#_blank target=_blank rel=noopener data-saferedirecturl
 =https://www.google.com/url?q=https://www.centraltexasfoodbank.org/fre
 quently-asked-questions-volunteering%23_blank&amp\;source=gmail&amp\;u
 st=1650375214977000&amp\;usg=AOvVaw0QwA1WEeyrVbGWrPaNfxMN>FAQ page</a>
  for the most updated information.</b></div>\n</div>\n
URL:https://ndclubofaustin.com/events/central-texas-food-bank-may-volu
 nteer-service-project/?lang=en
ATTACH:https://ndclubofaustin.com/events/central-texas-food-bank-may-v
 olunteer-service-project/?lang=en
ATTACH:https://ndclubofaustin.com/wp-content/uploads/2022/04/CTFB-Serv
 ice-Project-Banner-May-2022-300x169.jpg
LOCATION:Central Texas Food Bank\, 6500 Metropolis Dr.\, Austin
END:VEVENT
END:VCALENDAR
