BEGIN:VCALENDAR
VERSION:2.0
METHOD:PUBLISH
PRODID:-//hacksw/handcal//NONSGML v1.0//EN
BEGIN:VEVENT
DTSTAMP:20260424T105843Z
DTSTART:20220101T180000Z
DTEND:20220101T210000Z
UID:20220101T180000Z-20220101T210000Z-2274@ndclubofaustin.com
SUMMARY:Notre Dame Football Fiesta Bowl Game Watch
DESCRIPTION:New year\, new coach.\n\nCelebrate Coach Freeman's inaugur
 al game and the Irish's first-ever match-up against Oklahoma State at 
 B.D. Riley's. Spend New Year's Day catching all the FBS action at one 
 of our favorite pubs.\n\n12:00 PM CT\nB.D.Riley's Irish Pub at Mueller
 \n1905 Aldrich Street
X-ALT-DESC;FMTTYPE=text/html:<p>New year\, new coach.</p>\n<p>Celebrat
 e Coach Freeman&#8217\;s inaugural game and the Irish&#8217\;s first-e
 ver match-up against Oklahoma State at B.D. Riley&#8217\;s. Spend New 
 Year&#8217\;s Day catching all the FBS action at one of our favorite p
 ubs.</p>\n<p>12:00 PM CT<br>\nB.D.Riley&#8217\;s Irish Pub at Mueller<
 br>\n1905 Aldrich Street</p>\n
URL:https://ndclubofaustin.com/events/notre-dame-football-fiesta-bowl-
 game-watch/?lang=en
ATTACH:https://ndclubofaustin.com/events/notre-dame-football-fiesta-bo
 wl-game-watch/?lang=en
ATTACH:https://ndclubofaustin.com/wp-content/uploads/2021/12/Fiesta-Bo
 wl-Square-300x300.png
LOCATION:B.D. Riley's Irish Pub- Mueller\, 1905 Aldrich Street\, Austi
 n\, TX 78723
END:VEVENT
END:VCALENDAR
