BEGIN:VCALENDAR
VERSION:2.0
METHOD:PUBLISH
PRODID:-//hacksw/handcal//NONSGML v1.0//EN
BEGIN:VEVENT
DTSTAMP:20260424T002402Z
DTSTART;VALUE=DATE:20211020
DTEND;VALUE=DATE:20211021
UID:20211020T050000Z-20211021T045959Z-2139@ndclubofaustin.com
SUMMARY:NDWC Fall 2021 Shared Read
DESCRIPTION:Please join the Notre Dame Club of Austin’s Women Connect 
 for our next shared read.  The fall book selection is The Four Winds: 
 A Novel by Kristin Hannah.\n\nOnline conversation with other NDWC’s ac
 ross the globe via the Shared Read Facebook group begins Sunday\, Sept
 ember 19\, and will run through Sunday\, October 24.\n\nThe local NDWC
  of Austin discussion will take place on the evening of October 20th a
 t an outdoor location and/or via Zoom.\n\nContact Nancy@ndclubofaustin
 .com for additional details
X-ALT-DESC;FMTTYPE=text/html:<p>Please join the Notre Dame Club of Aus
 tin’s Women Connect for our next shared read.  The fall book selection
  is <em>The Four Winds: A Novel</em> by Kristin Hannah.</p>\n<p>Online
  conversation with other NDWC’s across the globe via the <strong><a hr
 ef=https://www.facebook.com/groups/168136610272360/ target=_blank rel=
 noreferrer noopener>Shared Read Facebook group</a> </strong>begins Sun
 day\, September 19\, and will run through Sunday\, October 24.</p>\n<p
 >The local NDWC of Austin discussion will take place on the evening of
  October 20th at an outdoor location and/or via Zoom.</p>\n<p>Contact 
 <a href=mailto:Nancy@ndclubofaustin.com target=_blank rel=noopener>Nan
 cy@ndclubofaustin.com</a> for additional details</p>\n
URL:https://ndclubofaustin.com/events/ndwc-fall-2021-shared-read/?lang
 =en
ATTACH:https://ndclubofaustin.com/events/ndwc-fall-2021-shared-read/?l
 ang=en
ATTACH:https://ndclubofaustin.com/wp-content/uploads/2021/09/NDWC-Fall
 -2021-Shared-Read-Kristin-Hannah-198x300.jpg
END:VEVENT
END:VCALENDAR
