BEGIN:VCALENDAR
VERSION:2.0
METHOD:PUBLISH
PRODID:-//hacksw/handcal//NONSGML v1.0//EN
BEGIN:VEVENT
DTSTAMP:20260424T015344Z
DTSTART:20211002T183000Z
DTEND:20211002T203000Z
UID:20211002T183000Z-20211002T203000Z-2131@ndclubofaustin.com
SUMMARY:Notre Dame Football vs Cincinnati
DESCRIPTION:Notre Dame Football vs Cincinnati\n\nWhen: Saturday\, Octo
 ber 2\, 2021\, at 1:30 pm\n\nWhere to watch: Peacock network and NBC\n
 \nGAME WATCH INFORMATION\n\nLet us know if you can make the game by RS
 VP'ing:\n\nhttps://www.betterunite.com/notredameclubofaustin-ndvscinci
 nnatigamewatch\n\nThe Dogwood Rock Rose\n11420 Rock Rose Ave\, Austin\
 , TX 78758\nFree parking throughout the Domain\nKickoff: 1:30 PM\n**21
  and over only**
X-ALT-DESC;FMTTYPE=text/html:<p>Notre Dame Football vs Cincinnati</p>\
 n<p>When: Saturday\, October 2\, 2021\, at 1:30 pm</p>\n<p>Where to wa
 tch: <a href=https://www.peacocktv.com/sports/notredame>Peacock networ
 k</a> and NBC</p>\n<p>GAME WATCH INFORMATION</p>\n<p>Let us know if yo
 u can make the game by RSVP&#8217\;ing:</p>\n<p>https://www.betterunit
 e.com/notredameclubofaustin-ndvscincinnatigamewatch</p>\n<p>The Dogwoo
 d Rock Rose<br>\n11420 Rock Rose Ave\, Austin\, TX 78758<br>\nFree par
 king throughout the Domain<br>\nKickoff: 1:30 PM<br>\n**21 and over on
 ly**</p>\n
URL:https://ndclubofaustin.com/events/notre-dame-football-vs-cincinnat
 i/?lang=en
ATTACH:https://ndclubofaustin.com/events/notre-dame-football-vs-cincin
 nati/?lang=en
ATTACH:https://ndclubofaustin.com/wp-content/uploads/2021/09/BeatCinci
 nnati_Clubs2021-300x300.jpg
LOCATION:Dogwood Rock Rose\, 11420 Rock Rose Ave\, Austin
END:VEVENT
END:VCALENDAR
