BEGIN:VCALENDAR
VERSION:2.0
METHOD:PUBLISH
PRODID:-//hacksw/handcal//NONSGML v1.0//EN
BEGIN:VEVENT
DTSTAMP:20260424T002758Z
DTSTART:20210918T183000Z
DTEND:20210918T203000Z
UID:20210918T183000Z-20210918T203000Z-2129@ndclubofaustin.com
SUMMARY:Notre Dame Football vs Purdue
DESCRIPTION:Notre Dame Football vs Purdue\n\nWhen: Saturday\, Septembe
 r 18\, 2021\, at 1:30 pm\n\nWhere to watch: Peacock network and NBC\n\
 nGAME WATCH LOCATION:\n\nDogwood Rock Rose at the Domain\n11420 Rock R
 ose Ave #130\, Austin\, TX 78758\nOpen-air venue\, multiple screens\, 
 audio\, and full food menu.\n**21 and over only**\nKick-off: 1:30 PM\n
 Free parking
X-ALT-DESC;FMTTYPE=text/html:<p>Notre Dame Football vs Purdue</p>\n<p>
 When: Saturday\, September 18\, 2021\, at 1:30 pm</p>\n<p>Where to wat
 ch: <a href=https://www.peacocktv.com/sports/notredame>Peacock network
 </a> and NBC</p>\n<p>GAME WATCH LOCATION:</p>\n<p><a href=https://thed
 ogwooddomain.com>Dogwood Rock Rose at the Domain</a><br>\n11420 Rock R
 ose Ave #130\, Austin\, TX 78758<br>\nOpen-air venue\, multiple screen
 s\, audio\, and full food menu.<br>\n<strong>**21 and over only**</str
 ong><br>\nKick-off: 1:30 PM<br>\nFree parking</p>\n
URL:https://ndclubofaustin.com/events/notre-dame-football-vs-purdue/?l
 ang=en
ATTACH:https://ndclubofaustin.com/events/notre-dame-football-vs-purdue
 /?lang=en
ATTACH:https://ndclubofaustin.com/wp-content/uploads/2021/09/BeatPurdu
 e_Clubs2021-300x300.jpg
END:VEVENT
END:VCALENDAR
