BEGIN:VCALENDAR
VERSION:2.0
METHOD:PUBLISH
PRODID:-//hacksw/handcal//NONSGML v1.0//EN
BEGIN:VEVENT
DTSTAMP:20260424T015945Z
DTSTART:20210911T183000Z
DTEND:20210911T203000Z
UID:20210911T183000Z-20210911T203000Z-2128@ndclubofaustin.com
SUMMARY:Notre Dame Football vs Toledo
DESCRIPTION:Notre Dame Football vs Toledo\n\nWhen: Saturday\, Septembe
 r 11\, 2021\, at 1:30 pm\n\nWhere to watch: Peacock network\n\nGAME WA
 TCH INFORMATION\n\nNDCoA is excited to start our football game watch p
 rogram this weekend at our new host bar!\n\nSee you there!\n\nKickoff:
  1:30 PM\n21+\n\nGo Irish
X-ALT-DESC;FMTTYPE=text/html:<p>Notre Dame Football vs Toledo</p>\n<p>
 When: Saturday\, September 11\, 2021\, at 1:30 pm</p>\n<p>Where to wat
 ch: <a href=https://www.peacocktv.com/sports/notredame>Peacock network
 </a></p>\n<p>GAME WATCH INFORMATION</p>\n<p>NDCoA is excited to start 
 our football game watch program this weekend at our new host bar!</p>\
 n<p>See you there!</p>\n<p>Kickoff: 1:30 PM<br>\n21+</p>\n<p>Go Irish<
 /p>\n
URL:https://ndclubofaustin.com/events/notre-dame-football-vs-toledo/
ATTACH:https://ndclubofaustin.com/events/notre-dame-football-vs-toledo
 /
ATTACH:https://ndclubofaustin.com/wp-content/uploads/2021/09/BeatToled
 o_Clubs2021-300x300.jpg
END:VEVENT
END:VCALENDAR
