BEGIN:VCALENDAR
VERSION:2.0
METHOD:PUBLISH
PRODID:-//hacksw/handcal//NONSGML v1.0//EN
BEGIN:VEVENT
DTSTAMP:20260423T230018Z
DTSTART:20211016T133000Z
DTEND:20211016T170000Z
UID:20211016T133000Z-20211016T170000Z-2126@ndclubofaustin.com
SUMMARY:Central Texas Food Bank Fall Service Project
DESCRIPTION:Spend Saturday\, October 16th serving up some good.  Join 
 the NDCoA volunteer team from 8:30 AM to 12:00 PM as we support the Ce
 ntral Texas Food Bank by inspecting\, sorting\, cleaning\, and packagi
 ng donated food and non-food items for distribution throughout their n
 etwork.\n\nOnly 20 volunteers can participate and are expected to part
 icipate for the entire 3.5 hours.  Shifts take place in a warehouse wh
 ere temperatures are variable.  Learn more about volunteering at CTFB 
 by watching this video.\n\nChildren above the age of 8 can participate
 \, and all individuals under the age of 18 must be accompanied by an a
 dult.  All volunteers must fill out a registration form.\n\n**Safety p
 rotocols will be enforced**\n\nVolunteers must comply with COVID and s
 afety protocols including\, and not limited to\, wearing masks\, refra
 ining from volunteering if they have symptoms of any illness\, have be
 en in contact with others who have tested positive for COVID\, and oth
 er precautions.  Please review the organization's full policy.\n\nWe a
 re excited to again support the Central Texas Food Bank's mission of e
 nding hunger in the region.  Please contact Dea Satrio at deasatrio@gm
 ail.com with any questions.
X-ALT-DESC;FMTTYPE=text/html:<p>Spend Saturday\, October 16<sup>th</su
 p> serving up some good.  Join the NDCoA volunteer team from 8:30 AM t
 o 12:00 PM as we support the Central Texas Food Bank by inspecting\, s
 orting\, cleaning\, and packaging donated food and non-food items for 
 distribution throughout their network.</p>\n<p>Only 20 volunteers can 
 participate and are expected to participate for the entire 3.5 hours. 
  Shifts take place in a warehouse where temperatures are variable.  Le
 arn more about volunteering at CTFB by <a href=https://vimeo.com/18472
 0523 target=_blank rel=noopener data-saferedirecturl=https://www.googl
 e.com/url?q=https://NDClubOfAustin.us8.list-manage.com/track/click?u%3
 D9d8e1e8f52884b100e915f024%26id%3Dd707e0a388%26e%3D33bc08f280&amp\;sou
 rce=gmail&amp\;ust=1631902079349000&amp\;usg=AFQjCNGZ38C1GbJUauAiQ0No1
 w7gc-sxeg>watching this video</a>.</p>\n<p>Children above the age of 8
  can participate\, and all individuals under the age of 18 must be acc
 ompanied by an adult.  All volunteers must fill out a <a href=https://
 cafb.volunteerhub.com/lp/notredamealumniaustin/#_=_ target=_blank rel=
 noopener data-saferedirecturl=https://www.google.com/url?q=https://NDC
 lubOfAustin.us8.list-manage.com/track/click?u%3D9d8e1e8f52884b100e915f
 024%26id%3D0c957339ea%26e%3D33bc08f280&amp\;source=gmail&amp\;ust=1631
 902079349000&amp\;usg=AFQjCNH2VWg_DsIDz4mBCcv7a-X2-fI-lw>registration 
 form</a>.</p>\n<p><strong>**Safety protocols will be enforced**</stron
 g></p>\n<p><a href=https://www.centraltexasfoodbank.org/frequently-ask
 ed-questions-volunteering#_blank target=_blank rel=noopener data-safer
 edirecturl=https://www.google.com/url?q=https://NDClubOfAustin.us8.lis
 t-manage.com/track/click?u%3D9d8e1e8f52884b100e915f024%26id%3Dd3a0e293
 c4%26e%3D33bc08f280&amp\;source=gmail&amp\;ust=1631902079349000&amp\;u
 sg=AFQjCNHjEzE9y-X8YOgVk8AeUYkJvCz8pg>V</a><a href=https://ndclubofaus
 tin.us8.list-manage.com/track/click?u=9d8e1e8f52884b100e915f024&amp\;i
 d=88cc70b244&amp\;e=33bc08f280 target=_blank rel=noopener data-safered
 irecturl=https://www.google.com/url?q=https://NDClubOfAustin.us8.list-
 manage.com/track/click?u%3D9d8e1e8f52884b100e915f024%26id%3D88cc70b244
 %26e%3D33bc08f280&amp\;source=gmail&amp\;ust=1631902079349000&amp\;usg
 =AFQjCNHTOeXsu5qVSUmnZLoijJRK6QwoTw>olunteers must comply with COVID a
 nd safety protocols</a> including\, and not limited to\, wearing masks
 \, refraining from volunteering if they have symptoms of any illness\,
  have been in contact with others who have tested positive for COVID\,
  and other precautions.  Please review the organization&#8217\;s <a hr
 ef=https://www.centraltexasfoodbank.org/frequently-asked-questions-vol
 unteering#_blank target=_blank rel=noopener data-saferedirecturl=https
 ://www.google.com/url?q=https://NDClubOfAustin.us8.list-manage.com/tra
 ck/click?u%3D9d8e1e8f52884b100e915f024%26id%3D1887151902%26e%3D33bc08f
 280&amp\;source=gmail&amp\;ust=1631902079349000&amp\;usg=AFQjCNH6PSNvD
 ECpn8MoHM2rkMlv7skuTg>full policy</a>.</p>\n<p>We are excited to again
  support the Central Texas Food Bank&#8217\;s mission of ending hunger
  in the region.  Please contact Dea Satrio at <a href=mailto:deasatrio
 @gmail.com?subject=Central%20Texas%20Food%20Bank target=_blank rel=noo
 pener>deasatrio@gmail.com</a> with any questions.</p>\n
URL:https://ndclubofaustin.com/events/fall-service-opportunity/?lang=e
 n
ATTACH:https://ndclubofaustin.com/events/fall-service-opportunity/?lan
 g=en
ATTACH:https://ndclubofaustin.com/wp-content/uploads/2021/09/CTFB-Serv
 ice-Project-Banner-300x169.jpg
LOCATION:Central Texas Food Bank\, 6500 Metropolis Dr.\, Austin
END:VEVENT
END:VCALENDAR
