BEGIN:VCALENDAR
VERSION:2.0
METHOD:PUBLISH
PRODID:-//hacksw/handcal//NONSGML v1.0//EN
BEGIN:VEVENT
DTSTAMP:20260421T145736Z
DTSTART:20210420T233000Z
DTEND:20210421T003000Z
UID:20210420T233000Z-20210421T003000Z-2124@ndclubofaustin.com
SUMMARY:SMC - Coffee and Conversation with President Conboy
DESCRIPTION:Calling all Saint Mary's Texas Alumnae - Save the Date!\n\
 nTuesday\, April 20\, 2021\, at 6:30 pm Central Time\n\nSaint Mary’s C
 ollege is happy to announce that the Office of Alumnae Relations will 
 be hosting a Zoom Coffee and Conversation with President Katie Conboy!
 \n\nKeep an eye on your email for an official invitation and sign up l
 ink two weeks prior to the date.\n\nPresident Conboy is excited to mee
 t our alumnae and we hope to see you all there\, virtually!
X-ALT-DESC;FMTTYPE=text/html:<p>Calling all Saint Mary&#8217\;s Texas 
 Alumnae &#8211\; Save the Date!</p>\n<p><strong>Tuesday\, April 20\, 2
 021\, at 6:30 pm Central Time</strong><br>\n<br>\nSaint Mary’s College
  is happy to announce that the Office of Alumnae Relations will be hos
 ting a Zoom <span class=il>Coffee</span> and <span class=il>Conversati
 on</span> with <span class=il>President</span> Katie <span class=il>Co
 nboy</span>!</p>\n<p>Keep an eye on your email for an official invitat
 ion and sign up link two weeks prior to the date.</p>\n<p>President Co
 nboy is excited to meet our alumnae and we hope to see you all there\,
  virtually!</p>\n
URL:https://ndclubofaustin.com/events/smc-coffee-and-conversation-with
 -president-conboy/?lang=en
ATTACH:https://ndclubofaustin.com/events/smc-coffee-and-conversation-w
 ith-president-conboy/?lang=en
ATTACH:https://ndclubofaustin.com/wp-content/uploads/2021/03/SMC-Coffe
 e-and-Convo-300x289.jpg
END:VEVENT
END:VCALENDAR
