BEGIN:VCALENDAR
VERSION:2.0
METHOD:PUBLISH
PRODID:-//hacksw/handcal//NONSGML v1.0//EN
BEGIN:VEVENT
DTSTAMP:20260421T165828Z
DTSTART:20210410T140000Z
DTEND:20210410T170000Z
UID:20210410T140000Z-20210410T170000Z-2123@ndclubofaustin.com
SUMMARY:NDWC - Outdoor Hike at McKinney Falls State Park
DESCRIPTION:The Notre Dame Women Connect - ND Club of Austin will host
  an all-outdoor event on Saturday\, April 10th at McKinney Falls State
  Park.\n\nIn the Park\, our meet-up points for Saturday will be at 9 A
 M at the Smith Visitor Center (for the family-friendly hike)\; and 10 
 AM at the Trailhead\, for the longer hike.  Join the group for one or 
 both!\n\nAfterward\, those who wish can share in a socially distanced 
 NDWC picnic at the Park (specific spot TBD).  Since visitor limitation
 s are likely to still be in place\, please be sure to reserve your par
 k Day Pass here in advance.\n\nMore details to follow in subsequent Cl
 ub communications.  Please contact Nancy Carrales with any questions.\
 n\nDate: Saturday\, April 10\, 2021\, at 9:00 am Central\n\nWhere: \n\
 nMcKinney Falls State Park\n\n5808 McKinney Falls Parkway\nAustin\, TX
  78744\n\n\n 
X-ALT-DESC;FMTTYPE=text/html:<p>The Notre Dame Women Connect &#8211\; 
 ND Club of Austin will host an all-outdoor event on Saturday\, April 1
 0th at <a href=https://tpwd.texas.gov/state-parks/mckinney-falls>McKin
 ney Falls State Park</a>.</p>\n<p>In the Park\, our meet-up points for
  Saturday will be at 9 AM at the Smith Visitor Center (for the family-
 friendly hike)\; and 10 AM at the Trailhead\, for the longer hike.  Jo
 in the group for one or both!</p>\n<p>Afterward\, those who wish can s
 hare in a socially distanced NDWC picnic at the Park (specific spot TB
 D).  Since visitor limitations are likely to still be in place\, pleas
 e be sure to reserve your park Day Pass <a href=https://texasstatepark
 s.reserveamerica.com/camping/mckinney-falls-state-park/r/deDetails.do?
 contractCode=TX&amp\;parkId=1200066 target=_blank rel=noopener data-sa
 feredirecturl=https://www.google.com/url?q=https://NDClubOfAustin.us8.
 list-manage.com/track/click?u%3D9d8e1e8f52884b100e915f024%26id%3D75ef4
 9f80b%26e%3Da0913f7a69&amp\;source=gmail&amp\;ust=1616192978870000&amp
 \;usg=AFQjCNE2JoiQU6ctIjaLouYw4_ZLoiyUNg>here</a> in advance.</p>\n<p>
 More details to follow in subsequent Club communications.  Please cont
 act <a href=mailto:nancy@ndclubofaustin.com target=_blank rel=noopener
 >Nancy Carrales</a> with any questions.</p>\n<p><strong>Date: </strong
 >Saturday\, April 10\, 2021\, at 9:00 am Central</p>\n<p><strong>Where
 : </strong></p>\n<p><a href=https://tpwd.texas.gov/state-parks/mckinne
 y-falls>McKinney Falls State Park</a></p>\n<p>5808 McKinney Falls Park
 way<br>\nAustin\, TX 78744</p>\n<div class=latlong><br>\n&nbsp\;</p>\n
 </div>\n
URL:https://ndclubofaustin.com/events/ndwc-outdoor-hike-at-mckinney-fa
 lls-state-park/
ATTACH:https://ndclubofaustin.com/events/ndwc-outdoor-hike-at-mckinney
 -falls-state-park/
ATTACH:https://ndclubofaustin.com/wp-content/uploads/2021/03/MFSP-Even
 t-NDATX-300x154.jpg
LOCATION:McKinney Falls State Park\, 5808 McKinney Falls Parkway\, Aus
 tin
END:VEVENT
END:VCALENDAR
