BEGIN:VCALENDAR
VERSION:2.0
METHOD:PUBLISH
PRODID:-//hacksw/handcal//NONSGML v1.0//EN
BEGIN:VEVENT
DTSTAMP:20260421T163339Z
DTSTART:20210324T000000Z
DTEND:20210324T020000Z
UID:20210324T000000Z-20210324T020000Z-2122@ndclubofaustin.com
SUMMARY:NDWC Spring Shared Read 2021
DESCRIPTION:Our NDWC Spring Shared Read is Barking to the Choir by Fr.
  Gregory Boyle.  \n\nNDWC Austin will join NDWC San Antonio for their 
 local Shared Read book chat at 7pm Central on Tuesday\, March 23\, 202
 1 on Zoom. \n\nPlease email TMGodinez@gmail.com if you would like to j
 oin the discussion.
X-ALT-DESC;FMTTYPE=text/html:<div><span style=color: #000000>Our <b>ND
 WC Spring Shared Read</b> is <i>Barking to the Choir</i> by Fr. Gregor
 y Boyle.  </span></div>\n<div></div>\n<div><span style=color: #000000>
 NDWC Austin will join NDWC San Antonio for their local Shared Read boo
 k chat <a>at 7pm Central on Tuesday\, March 23\, 2021</a> on Zoom. </s
 pan></div>\n<div></div>\n<div><span style=color: #000000>Please email 
 <a href=mailto:TMGodinez@gmail.com target=_blank rel=noopener>TMGodine
 z@gmail.com</a> if you would like to join the discussion.</span></div>
 \n
URL:https://ndclubofaustin.com/events/ndwc-spring-shared-read-2021/?la
 ng=en
ATTACH:https://ndclubofaustin.com/events/ndwc-spring-shared-read-2021/
 ?lang=en
ATTACH:https://ndclubofaustin.com/wp-content/uploads/2021/03/Barking-t
 o-the-Chior-196x300.jpg
END:VEVENT
END:VCALENDAR
