BEGIN:VCALENDAR
VERSION:2.0
METHOD:PUBLISH
PRODID:-//hacksw/handcal//NONSGML v1.0//EN
BEGIN:VEVENT
DTSTAMP:20260421T151702Z
DTSTART:20210305T000000Z
DTEND:20210305T010000Z
UID:20210305T000000Z-20210305T010000Z-2121@ndclubofaustin.com
SUMMARY:ND Women Connect Presents: A Conversation with Keri Kei Shibat
 a\, Chief of Notre Dame Police
DESCRIPTION:Please join NDWC for a conversation with Keri Kei Shibata\
 , the first woman to serve as Chief of Notre Dame Police.\nWe will dis
 cuss the recent report\, Equity in Policing\, that her department issu
 ed in September 2020\, and invite her to share her experiences as a wo
 man in law enforcement. With a dedication to safety and service\, and 
 personal interests in both yoga and roller derby\, Keri Kei is sure to
  provide a unique perspective - we hope you'll join the conversation! 
  Registration required.\nhttps://my.nd.edu/networks/events/7852
X-ALT-DESC;FMTTYPE=text/html:<p dir=ltr>Please join NDWC for a convers
 ation with Keri Kei Shibata\, the first woman to serve as Chief of Not
 re Dame Police.</p>\n<p dir=ltr>We will discuss the recent report\, <a
  href=https://police.nd.edu/equity-in-policing/ target=_blank rel=noop
 ener data-saferedirecturl=https://www.google.com/url?q=https://police.
 nd.edu/equity-in-policing/&amp\;source=gmail&amp\;ust=1614813703397000
 &amp\;usg=AFQjCNFyEB40GDc-e2X_nkRy8PVgyxkDcA>&#8220\;Equity in Policin
 g\,&#8221\;</a> that her department issued in September 2020\, and inv
 ite her to share her experiences as a woman in law enforcement. With a
  dedication to safety and service\, and personal interests in both yog
 a and roller derby\, Keri Kei is sure to provide a unique perspective 
 &#8211\; we hope you&#8217\;ll join the conversation!  Registration re
 quired.</p>\n<p dir=ltr><b><a href=https://my.nd.edu/networks/events/7
 852 target=_blank rel=noopener data-saferedirecturl=https://www.google
 .com/url?q=https://my.nd.edu/networks/events/7852&amp\;source=gmail&am
 p\;ust=1614813703397000&amp\;usg=AFQjCNE-VJhv21-TvF5UrQJqtp36N36qMQ>ht
 tps://my.nd.edu/networks/events/7852</a></b></p>\n
URL:https://ndclubofaustin.com/events/nd-women-connect-presents-a-conv
 ersation-with-keri-kei-shibata-chief-of-notre-dame-police/?lang=en
ATTACH:https://ndclubofaustin.com/events/nd-women-connect-presents-a-c
 onversation-with-keri-kei-shibata-chief-of-notre-dame-police/?lang=en
ATTACH:https://ndclubofaustin.com/wp-content/uploads/2021/03/ND-Police
 -Chief.jpg
END:VEVENT
END:VCALENDAR
