BEGIN:VCALENDAR
VERSION:2.0
METHOD:PUBLISH
PRODID:-//hacksw/handcal//NONSGML v1.0//EN
BEGIN:VEVENT
DTSTAMP:20260421T145802Z
DTSTART:20210319T000000Z
DTEND:20210319T020000Z
UID:20210319T000000Z-20210319T020000Z-2120@ndclubofaustin.com
SUMMARY:GALA ND/SMC - SAVE THE DATE! Discussion with Fr. James
DESCRIPTION:SAVE THE DATE: March 18\, 2021 8PM EST\n\nGALA-ND/SMC is p
 roud to virtually host our 2019 Dooley Award Recipient Fr. James Marti
 n SJ as he discusses his latest publication: Learning to Pray!\n\nFr. 
 Martin is a Jesuit priest in NYC\, author\, and editor of America Maga
 zine. You may also recognize him from Stephen Colbert - he was the cha
 plain of Colbert Nation when Stephen was on Comedy Central.  They had 
 a recent interview together on CBS (see below).\n\nRegistration will o
 pen soon but in the meantime buy the book now so you can read it befor
 e the event.  Click here for signed copies.\n\nhttps://youtu.be/tS72tz
 SD908\n\n 
X-ALT-DESC;FMTTYPE=text/html:<p><u><strong>SAVE THE DATE:</strong></u>
  March 18\, 2021 8PM EST</p>\n<p>GALA-ND/SMC is proud to virtually hos
 t our 2019 Dooley Award Recipient Fr. James Martin SJ as he discusses 
 his latest publication: Learning to Pray!</p>\n<p>Fr. Martin is a Jesu
 it priest in NYC\, author\, and editor of America Magazine. You may al
 so recognize him from Stephen Colbert &#8211\; he was the chaplain of 
 Colbert Nation when Stephen was on Comedy Central.  They had a recent 
 interview together on CBS (see below).</p>\n<p>Registration will open 
 soon but in the meantime buy the book now so you can read it before th
 e event.  <a href=https://premierecollectibles.com/pray?utm_source=ND+
 Club+of+Austin+Constituents&amp\;utm_campaign=fa8437d8a1-EMAIL_CAMPAIG
 N_2020_03_02_05_20_COPY_01&amp\;utm_medium=email&amp\;utm_term=0_bbace
 4860f-fa8437d8a1- target=_blank rel=noopener data-saferedirecturl=http
 s://www.google.com/url?q=https://premierecollectibles.com/pray?utm_sou
 rce%3DND%2BClub%2Bof%2BAustin%2BConstituents%26utm_campaign%3Dfa8437d8
 a1-EMAIL_CAMPAIGN_2020_03_02_05_20_COPY_01%26utm_medium%3Demail%26utm_
 term%3D0_bbace4860f-fa8437d8a1-&amp\;source=gmail&amp\;ust=16148139831
 21000&amp\;usg=AFQjCNGpnE16N0ttyLY47hFIEuZqSma-Tg>Click here</a> for s
 igned copies.</p>\n<p>https://youtu.be/tS72tzSD908</p>\n<p>&nbsp\;</p>
 \n
URL:https://ndclubofaustin.com/events/gala-ndsmc-save-the-date-discuss
 ion-with-fr-james/?lang=en
ATTACH:https://ndclubofaustin.com/events/gala-ndsmc-save-the-date-disc
 ussion-with-fr-james/?lang=en
ATTACH:https://ndclubofaustin.com/wp-content/uploads/2021/03/Learning-
 to-Pray-202x300.jpg
END:VEVENT
END:VCALENDAR
