BEGIN:VCALENDAR
VERSION:2.0
METHOD:PUBLISH
PRODID:-//hacksw/handcal//NONSGML v1.0//EN
BEGIN:VEVENT
DTSTAMP:20260421T163438Z
DTSTART:20210311T193000Z
DTEND:20210311T203000Z
UID:20210311T193000Z-20210311T203000Z-2119@ndclubofaustin.com
SUMMARY:Fighting Irish Foodies - St. Patrick's Day Meal with Josh Maro
 n
DESCRIPTION:Fighting Irish Foodies is your opportunity to engage with 
 the University's top chefs live as they teach you how to cook\, bake\,
  and BBQ!\n\nNow it's time for the main dish\, as Josh Maron\, Executi
 ve Chef at Legends of Notre Dame\, teaches Fighting Irish Foodies how 
 to cook a traditional Irish meal\, just in time for St. Patrick's Day.
 \n\nClick here to register.\n\nDate: March 11\, 2021 at 2:30 PM ET
X-ALT-DESC;FMTTYPE=text/html:<p>Fighting Irish Foodies is your opportu
 nity to engage with the University&#8217\;s top chefs live as they tea
 ch you how to cook\, bake\, and BBQ!</p>\n<p>Now it&#8217\;s time for 
 the main dish\, as Josh Maron\, Executive Chef at Legends of Notre Dam
 e\, teaches Fighting Irish Foodies how to cook a traditional Irish mea
 l\, just in time for St. Patrick&#8217\;s Day.</p>\n<p><a href=https:/
 /my.nd.edu/events/8368?utm_source=ND+Club+of+Austin+Constituents&amp\;
 utm_campaign=fa8437d8a1-EMAIL_CAMPAIGN_2020_03_02_05_20_COPY_01&amp\;u
 tm_medium=email&amp\;utm_term=0_bbace4860f-fa8437d8a1- target=_blank r
 el=noopener data-saferedirecturl=https://www.google.com/url?q=https://
 my.nd.edu/events/8368?utm_source%3DND%2BClub%2Bof%2BAustin%2BConstitue
 nts%26utm_campaign%3Dfa8437d8a1-EMAIL_CAMPAIGN_2020_03_02_05_20_COPY_0
 1%26utm_medium%3Demail%26utm_term%3D0_bbace4860f-fa8437d8a1-&amp\;sour
 ce=gmail&amp\;ust=1614813983120000&amp\;usg=AFQjCNH4ctQeu-MB2HF2unBkp3
 2xJrMq-A>Click here to register</a>.</p>\n<p><u><strong>Date:</strong>
 </u> March 11\, 2021 at 2:30 PM ET</p>\n
URL:https://ndclubofaustin.com/events/fighting-irish-foodies-st-patric
 ks-day-meal-with-josh-maron/?lang=en
ATTACH:https://ndclubofaustin.com/events/fighting-irish-foodies-st-pat
 ricks-day-meal-with-josh-maron/?lang=en
ATTACH:https://ndclubofaustin.com/wp-content/uploads/2021/03/Fighting-
 Irish-Foodies-300x138.png
END:VEVENT
END:VCALENDAR
