BEGIN:VCALENDAR
VERSION:2.0
METHOD:PUBLISH
PRODID:-//hacksw/handcal//NONSGML v1.0//EN
BEGIN:VEVENT
DTSTAMP:20260421T150151Z
DTSTART:20210305T003000Z
DTEND:20210305T013000Z
UID:20210305T003000Z-20210305T013000Z-2118@ndclubofaustin.com
SUMMARY:Celebrating Ibero-American Cinema: Embrace of the Serpent
DESCRIPTION:As part of the Saint Mary's College Celebrating Ibero-Amer
 ican Cinema series\, the school will be screening the film Embrace of 
 the Serpent. The screening will include a short introduction to the fi
 lm and a brief discussion after the viewing.\n\nThe films in this virt
 ual festival shed light on important cultural\, social\, and intersect
 ional topics from the Spanish-speaking world.\n\nFor more information 
 and register for this free event click here. For questions please cont
 act jzachman@saintmarys.edu.\n\nDate: Please join us at 6:30 p.m. EST 
 on Thursday\, March 4.
X-ALT-DESC;FMTTYPE=text/html:<p>As part of the <a href=https://www.sai
 ntmarys.edu>Saint Mary&#8217\;s College</a> &#8220\;Celebrating Ibero-
 American Cinema&#8221\; series\, the school will be screening the film
  Embrace of the Serpent. The screening will include a short introducti
 on to the film and a brief discussion after the viewing.</p>\n<p>The f
 ilms in this virtual festival shed light on important cultural\, socia
 l\, and intersectional topics from the Spanish-speaking world.</p>\n<p
 >For more information and register for this free event <a href=https:/
 /www.saintmarys.edu/film-series-embrace-serpent?utm_source=ND+Club+of+
 Austin+Constituents&amp\;utm_campaign=fa8437d8a1-EMAIL_CAMPAIGN_2020_0
 3_02_05_20_COPY_01&amp\;utm_medium=email&amp\;utm_term=0_bbace4860f-fa
 8437d8a1- target=_blank rel=noopener data-saferedirecturl=https://www.
 google.com/url?q=https://www.saintmarys.edu/film-series-embrace-serpen
 t?utm_source%3DND%2BClub%2Bof%2BAustin%2BConstituents%26utm_campaign%3
 Dfa8437d8a1-EMAIL_CAMPAIGN_2020_03_02_05_20_COPY_01%26utm_medium%3Dema
 il%26utm_term%3D0_bbace4860f-fa8437d8a1-&amp\;source=gmail&amp\;ust=16
 14813983120000&amp\;usg=AFQjCNEifCYJx7lAerOBHSN7pUSFxtA0IQ>click here<
 /a>. For questions please contact <a href=mailto:jzachman@saintmarys.e
 du target=_blank rel=noopener>jzachman@saintmarys.edu</a>.</p>\n<p><u>
 <strong>Date:</strong></u> Please join us at 6:30 p.m. EST on Thursday
 \, March 4.</p>\n
URL:https://ndclubofaustin.com/events/celebrating-ibero-american-cinem
 a-embrace-of-the-serpent/?lang=en
ATTACH:https://ndclubofaustin.com/events/celebrating-ibero-american-ci
 nema-embrace-of-the-serpent/?lang=en
ATTACH:https://ndclubofaustin.com/wp-content/uploads/2021/03/SMC-Ibero
 -American-Cinema-300x150.jpg
END:VEVENT
END:VCALENDAR
