BEGIN:VCALENDAR
VERSION:2.0
METHOD:PUBLISH
PRODID:-//hacksw/handcal//NONSGML v1.0//EN
BEGIN:VEVENT
DTSTAMP:20260424T050049Z
DTSTART:20211021T000000Z
DTEND:20211021T013000Z
UID:20211021T000000Z-20211021T013000Z-2113@ndclubofaustin.com
SUMMARY:ND Club of Austin Monthly Leadership Meeting - October 2021
DESCRIPTION:Moving October's Leadership meeting to the following week 
 - Now scheduled for Wednesday\, October 20th.\n\nReady to become more 
 involved with the ND Club of Austin?\nWe're going virtual for our Octo
 ber 2021 meeting:\n\n\n\nMeeting ID: 959 6410 7474\n\nPasscode: Irish#
 1\n\nhttps://zoom.us/j/95964107474?pwd=Y3BJR3g4aE1JNWlHaGFFRGFOVHpUQT0
 9\n\n\nWhether you'd like to help plan events\, play a leading role\, 
 or just contribute some brainstorming ideas\, we'd love to have you! A
 ll are welcome to attend!
X-ALT-DESC;FMTTYPE=text/html:<div class=kvgmc6g5 cxmmr5t8 oygrvhab hcu
 kyx3x c1et5uql>Moving October&#8217\;s Leadership meeting to the follo
 wing week &#8211\; Now scheduled for Wednesday\, October 20th.</div>\n
 <div></div>\n<div class=kvgmc6g5 cxmmr5t8 oygrvhab hcukyx3x c1et5uql>R
 eady to become more involved with the ND Club of Austin?</div>\n<div c
 lass=o9v6fnle cxmmr5t8 oygrvhab hcukyx3x c1et5uql>We&#8217\;re going v
 irtual for our October 2021 meeting:</div>\n<div>\n<div class=o9v6fnle
  cxmmr5t8 oygrvhab hcukyx3x c1et5uql><br>\nMeeting ID: 959 6410 7474</
 p>\n<p>Passcode: Irish#1</p>\n<p>https://zoom.us/j/95964107474?pwd=Y3B
 JR3g4aE1JNWlHaGFFRGFOVHpUQT09</p>\n</div>\n<div class=o9v6fnle cxmmr5t
 8 oygrvhab hcukyx3x c1et5uql>Whether you&#8217\;d like to help plan ev
 ents\, play a leading role\, or just contribute some brainstorming ide
 as\, we&#8217\;d love to have you! All are welcome to attend!</div>\n<
 /div>\n<div class=o9v6fnle cxmmr5t8 oygrvhab hcukyx3x c1et5uql>\n<div>
 </div>\n</div>\n
URL:https://ndclubofaustin.com/events/nd-club-of-austin-monthly-leader
 ship-meeting-october-2021/?lang=en
ATTACH:https://ndclubofaustin.com/events/nd-club-of-austin-monthly-lea
 dership-meeting-october-2021/?lang=en
ATTACH:https://ndclubofaustin.com/wp-content/uploads/2021/02/NDATX-Lea
 dership-Meetings-300x225.jpg
END:VEVENT
END:VCALENDAR
