BEGIN:VCALENDAR
VERSION:2.0
METHOD:PUBLISH
PRODID:-//hacksw/handcal//NONSGML v1.0//EN
BEGIN:VEVENT
DTSTAMP:20260421T180402Z
DTSTART:20200306T234500Z
DTEND:20200307T033000Z
UID:20200306T234500Z-20200307T033000Z-2088@ndclubofaustin.com
SUMMARY:Austin Spurs Game
DESCRIPTION:Looking for fun\, family-friend plans?\nJoin your ND Club 
 of Austin at the Austin Spurs game on Friday\, March 6th in Cedar Park
 !\n\nArrive at 5:45 pm for an exclusive pregame meet-and-greet with ND
  Basketball player Matt Farrell (ND '18)!\nTip-off is at 7:30 pm\, and
  enjoy $2 beer night!\n\nPurchase your tickets here for just $15!\nGo 
 Irish!
X-ALT-DESC;FMTTYPE=text/html:<div>Looking for fun\, family-friend plan
 s?</div>\n<div>Join your ND Club of Austin at the <b><a href=https://a
 ustin.gleague.nba.com/ target=_blank rel=noopener data-saferedirecturl
 =https://www.google.com/url?q=https://austin.gleague.nba.com/&amp\;sou
 rce=gmail&amp\;ust=1582133196411000&amp\;usg=AFQjCNFWooh669pYo6Xm-_B62
 RUpbmBgUg>Austin Spurs</a></b> game on Friday\, March 6th in <a href=h
 ttps://goo.gl/maps/nrrBnfdDq7hvVNxy5 target=_blank rel=noopener data-s
 aferedirecturl=https://www.google.com/url?q=https://goo.gl/maps/nrrBnf
 dDq7hvVNxy5&amp\;source=gmail&amp\;ust=1582133196411000&amp\;usg=AFQjC
 NHIG5RzpgI9EoDp1Cv6Br0oJrIbgw>Cedar Park</a>!</div>\n<div></div>\n<div
 >Arrive at 5:45 pm for an <b><i>exclusive</i></b> pregame meet-and-gre
 et with ND Basketball player <b>Matt Farrell</b> (ND &#8217\;18)!</div
 >\n<div>Tip-off is at 7:30 pm\, and enjoy $2 beer night!</div>\n<div><
 /div>\n<div>Purchase your tickets <a href=https://groupmatics.events/e
 vent/Notredame65 target=_blank rel=noopener data-saferedirecturl=https
 ://www.google.com/url?q=https://groupmatics.events/event/Notredame65&a
 mp\;source=gmail&amp\;ust=1582133196411000&amp\;usg=AFQjCNH2Q7tZ9k0bSx
 OAQQpF6Y3A80FFHQ><b>here</b></a> for just $15!</div>\n<div>Go Irish!</
 div>\n
URL:https://ndclubofaustin.com/events/austin-spurs-game/?lang=en
ATTACH:https://ndclubofaustin.com/events/austin-spurs-game/?lang=en
ATTACH:https://ndclubofaustin.com/wp-content/uploads/2020/02/Austin-Sp
 urs-Game-300x168.jpg
LOCATION:HEB Center\, 2100 Ave of the Stars\, Cedar Park
END:VEVENT
END:VCALENDAR
