BEGIN:VCALENDAR
VERSION:2.0
METHOD:PUBLISH
PRODID:-//hacksw/handcal//NONSGML v1.0//EN
BEGIN:VEVENT
DTSTAMP:20260421T195617Z
DTSTART:20200227T013000Z
DTEND:20200227T033000Z
UID:20200227T013000Z-20200227T033000Z-2087@ndclubofaustin.com
SUMMARY:Young Alumni Trivia Night
DESCRIPTION:Come enjoy some pizza\, beer\, and good company\, and shar
 e your knowledge at trivia night at Pinthouse Pizza - S. Lamar\n\nJoin
  us at 7:30pm\; trivia begins at 8pm. Wear your ND gear!\n\nRSVP HERE 
 so we know to expect you!
X-ALT-DESC;FMTTYPE=text/html:<p>Come enjoy some pizza\, beer\, and goo
 d company\, and share your knowledge at trivia night at <a class=profi
 leLink href=http://pinthousepizza.com/lamar data-hovercard=/ajax/hover
 card/page.php?id=1031562756869031&amp\;extragetparams=%7B%22__tn__%22%
 3A%22%2CdK-R-R%22%2C%22eid%22%3A%22ARAYUzJrbwcnIDpa7W7q-XJDDuRDnBaIXdv
 myHqKp-IhFhni1VFMZLLg21p8WAlVVVXjDBzlBoPaP92E%22%2C%22fref%22%3A%22men
 tions%22%7D data-hovercard-prefer-more-content-show=1>Pinthouse Pizza 
 &#8211\; S. Lamar</a></p>\n<p>Join us at 7:30pm\; trivia begins at 8pm
 . Wear your ND gear!</p>\n<p>RSVP <a href=https://www.betterunite.com/
 notredameclubofaustin-youngalumnitrivianight>HERE</a> so we know to ex
 pect you!</p>\n
URL:https://ndclubofaustin.com/events/young-alumni-trivia-night/?lang=
 en
ATTACH:https://ndclubofaustin.com/events/young-alumni-trivia-night/?la
 ng=en
ATTACH:https://ndclubofaustin.com/wp-content/uploads/2020/02/YA-Trivia
 -Night-300x218.jpeg
LOCATION:Pinthouse Pizza South Lamar\, 4236 S. LAMAR BLVD\, Austin
END:VEVENT
END:VCALENDAR
