BEGIN:VCALENDAR
VERSION:2.0
METHOD:PUBLISH
PRODID:-//hacksw/handcal//NONSGML v1.0//EN
BEGIN:VEVENT
DTSTAMP:20260421T225657Z
DTSTART:20191002T000000Z
DTEND:20191002T020000Z
UID:20191002T000000Z-20191002T020000Z-2071@ndclubofaustin.com
SUMMARY:Notre Dame Admissions Visiting Austin
DESCRIPTION:Mark your calendars - Notre Dame Admissions is coming to A
 ustin!\n\nTuesday\, October 1st\n7pm-9pm\nKIPP Austin Collegiate Gymna
 sium\n8004 Cameron Road\nAustin\, Texas 78754\n\n\nMonica Newland\, Se
 nior Assistant Director of Admissions for ND who covers Texas\, will b
 e presenting along with representatives from Emory University\, Johns 
 Hopkins University\, and Washington University in St. Louis.\n\nLearn 
 more about academic programs\, student life\, admission\, and financia
 l aid at the University of Notre Dame! There will be time for question
 s and to meet with Monica at the end.\n\nFind more details and registe
 r HERE\n\n 
X-ALT-DESC;FMTTYPE=text/html:<p>Mark your calendars &#8211\; <a class=
 profileLink href=https://admissions.nd.edu data-hovercard=/ajax/hoverc
 ard/page.php?id=211628418867520&amp\;extragetparams=%7B%22__tn__%22%3A
 %22%2CdK-R-R%22%2C%22eid%22%3A%22ARDtz7zLml6oDznPmGGIeyuAcVHlFahiiTs3q
 3HJLkYCglTUyHQUR9msMfb7R13UK0qghHUYZV03h_3I%22%2C%22fref%22%3A%22menti
 ons%22%7D data-hovercard-prefer-more-content-show=1>Notre Dame Admissi
 ons</a> is coming to Austin!</p>\n<p>Tuesday\, October 1st<br>\n7pm-9p
 m<br>\n<a class=profileLink href=https://kippaustin.org/schools-and-pr
 ograms/grades-9-12/kipp-austin-collegiate/ data-hovercard=/ajax/hoverc
 ard/page.php?id=175957576156100&amp\;extragetparams=%7B%22__tn__%22%3A
 %22%2CdK-R-R%22%2C%22eid%22%3A%22ARABNi1QD6xeuIZFtKpOIXgtiSkNFSlMRUeDK
 SpSO7kXUREW0GWOH3kLxSXY1YcJUIbaxOxedAooX3Nq%22%2C%22fref%22%3A%22menti
 ons%22%7D data-hovercard-prefer-more-content-show=1>KIPP Austin Colleg
 iate</a> Gymnasium<span class=text_exposed_show><br>\n8004 Cameron Roa
 d<br>\nAustin\, Texas 78754</span></p>\n<div class=text_exposed_show><
 br>\nMonica Newland\, Senior Assistant Director of Admissions for ND w
 ho covers Texas\, will be presenting along with representatives from E
 mory University\, Johns Hopkins University\, and Washington University
  in St. Louis.</p>\n<p>Learn more about academic programs\, student li
 fe\, admission\, and financial aid at the <a class=profileLink href=ht
 tps://www.nd.edu data-hovercard=/ajax/hovercard/page.php?id=1131742530
 97&amp\;extragetparams=%7B%22__tn__%22%3A%22%2CdK-R-R%22%2C%22eid%22%3
 A%22ARCRjSjiRN7x0Fy6CjExueAGiekrdm9yjgMC_hrNY0QlUgrvTiqMRxynl03N0TNr43
 XPR4roRlbndIgi%22%2C%22fref%22%3A%22mentions%22%7D data-hovercard-pref
 er-more-content-show=1>University of Notre Dame</a>! There will be tim
 e for questions and to meet with Monica at the end.</p>\n<p>Find more 
 details and register <a href=https://enrollment.nd.edu/ndontheroad/?id
 =7a555f86-c12b-45b7-9322-c910ad08b8e9&amp\;fbclid=IwAR0YJKO_rTPy1mr52H
 36qaId5ao-7KvPyyT22AvouU8ysei_YuxU7wUTnZo>HERE</a></p>\n<p>&nbsp\;</p>
 \n</div>\n
URL:https://ndclubofaustin.com/events/notre-dame-admissions-visiting-a
 ustin/?lang=en
ATTACH:https://ndclubofaustin.com/events/notre-dame-admissions-visitin
 g-austin/?lang=en
ATTACH:https://ndclubofaustin.com/wp-content/uploads/2019/09/ND-Admiss
 ions-Austin-300x200.jpg
LOCATION:KIPP Austin Collegiate Gymnasium\, 8004 Cameron Road\, Austin
END:VEVENT
END:VCALENDAR
