BEGIN:VCALENDAR
VERSION:2.0
METHOD:PUBLISH
PRODID:-//hacksw/handcal//NONSGML v1.0//EN
BEGIN:VEVENT
DTSTAMP:20260420T225354Z
DTSTART:20190613T223000Z
DTEND:20190614T003000Z
UID:20190613T223000Z-20190614T003000Z-1895@ndclubofaustin.com
SUMMARY:Young Alumni Happy Hour
DESCRIPTION:Come join young alums (and those young at heart!) for some
  Notre Dame camaraderie! \nWe'll be meeting at Upstairs at Caroline do
 wntown on Congress. \nCheers!\nWhat: Young Alum Happy Hour\nWhen: Thur
 sday\, June 13th at 5:30 pm\nWhere: Upstairs at Caroline\, 621 Congres
 s Avenue
X-ALT-DESC;FMTTYPE=text/html:<p>Come join young alums (and those young
  at heart!) for some Notre Dame camaraderie! <br>\nWe&#8217\;ll be mee
 ting at Upstairs at Caroline downtown on Congress. <br>\nCheers!<br>\n
 What: Young Alum Happy Hour<br>\nWhen: Thursday\, June 13th at 5:30 pm
 <br>\nWhere: Upstairs at Caroline\, 621 Congress Avenue</p>\n
URL:https://ndclubofaustin.com/events/young-alumni-happy-hour/?lang=en
ATTACH:https://ndclubofaustin.com/events/young-alumni-happy-hour/?lang
 =en
ATTACH:https://ndclubofaustin.com/wp-content/uploads/2019/06/YA-195x30
 0.jpg
LOCATION:Upstairs at Caroline\, 621 Congress Avenue\, Austin
END:VEVENT
END:VCALENDAR
